BEGIN:VCALENDAR
VERSION:2.0
PRODID:-//Caymanvisitor - ECPv6.15.1.1//NONSGML v1.0//EN
CALSCALE:GREGORIAN
METHOD:PUBLISH
X-ORIGINAL-URL:https://caymanvisitor.com
X-WR-CALDESC:Events for Caymanvisitor
REFRESH-INTERVAL;VALUE=DURATION:PT1H
X-Robots-Tag:noindex
X-PUBLISHED-TTL:PT1H
BEGIN:VTIMEZONE
TZID:UTC
BEGIN:STANDARD
TZOFFSETFROM:+0000
TZOFFSETTO:+0000
TZNAME:UTC
DTSTART:20230101T000000
END:STANDARD
END:VTIMEZONE
BEGIN:VEVENT
DTSTART;VALUE=DATE:20230512
DTEND;VALUE=DATE:20230531
DTSTAMP:20260421T141056
CREATED:20230517T151854Z
LAST-MODIFIED:20230517T151854Z
UID:2629-1683849600-1685491199@caymanvisitor.com
SUMMARY:Healthy Reefs Virtual Art Exhibit
DESCRIPTION:This exhibit features artwork from students in the BTEC class at the Cayman Islands Further Education Centre\, in support of our Healthy Reefs campaign. This is the fourth year of this collaborative effort to combine science\, art\, and professional skills for students as they prepare for their future employment opportunities.
URL:https://caymanvisitor.com/event/healthy-reefs-virtual-art-exhibit/
LOCATION:Virtual\, Cayman Islands
ATTACH;FMTTYPE=image/png:https://caymanvisitor.com/wp-content/uploads/2023/05/WOD-2023-Virtual-art-gallery-post-20230512153504.png
END:VEVENT
BEGIN:VEVENT
DTSTART;TZID=UTC:20230519T090000
DTEND;TZID=UTC:20230521T180000
DTSTAMP:20260421T141056
CREATED:20230517T152700Z
LAST-MODIFIED:20230517T152700Z
UID:2632-1684486800-1684692000@caymanvisitor.com
SUMMARY:NORCECA Beach Volleyball Tour
DESCRIPTION:The Security Centre 2023 NORCECA Beach Volleyball Tour takes place 19th-21st May 9am-6pm daily \nFeaturing 32 teams and approximately 15 countries this will be an exciting international volleyball event hosted in Cayman!
URL:https://caymanvisitor.com/event/norceca-beach-volleyball-tour/
LOCATION:Public Beach\, West Bay\, Grand Cayman
ATTACH;FMTTYPE=image/png:https://caymanvisitor.com/wp-content/uploads/2023/05/Screenshot-2023-04-06-123715-20230406130928.png
END:VEVENT
BEGIN:VEVENT
DTSTART;TZID=UTC:20230520T183000
DTEND;TZID=UTC:20230520T233000
DTSTAMP:20260421T141056
CREATED:20230517T153537Z
LAST-MODIFIED:20230517T155459Z
UID:2634-1684607400-1684625400@caymanvisitor.com
SUMMARY:Cayman Islands Sailing Club Annual Gala
DESCRIPTION:The Cayman Islands Sailing Club presents their major annual event and this year’s gala has the theme of The American Song Book featuring the UK’s answer to Michael Bublé\, showbiz personality Jason Isaacs. Enjoy cocktails followed by dinner and dancing under the stars to classic American songs and then a DJ\, at the terrific Grand Olde House! \nTickets are $150 per person\, or $1\,500 for a table for ten. \nAny funds raised will help to ensure the reliable continuation of the sailing programmes which the CISC runs.
URL:https://caymanvisitor.com/event/cayman-islands-sailing-club-annual-gala/
LOCATION:Grand Old House\, Cayman Islands
ATTACH;FMTTYPE=image/png:https://caymanvisitor.com/wp-content/uploads/2023/05/jason-isaacs-20230501133555.png
END:VEVENT
END:VCALENDAR