BEGIN:VCALENDAR
VERSION:2.0
PRODID:-//Caymanvisitor - ECPv6.15.1.1//NONSGML v1.0//EN
CALSCALE:GREGORIAN
METHOD:PUBLISH
X-WR-CALNAME:Caymanvisitor
X-ORIGINAL-URL:https://caymanvisitor.com
X-WR-CALDESC:Events for Caymanvisitor
REFRESH-INTERVAL;VALUE=DURATION:PT1H
X-Robots-Tag:noindex
X-PUBLISHED-TTL:PT1H
BEGIN:VTIMEZONE
TZID:UTC
BEGIN:STANDARD
TZOFFSETFROM:+0000
TZOFFSETTO:+0000
TZNAME:UTC
DTSTART:20250101T000000
END:STANDARD
END:VTIMEZONE
BEGIN:VEVENT
DTSTART;TZID=UTC:20250606T200000
DTEND;TZID=UTC:20250607T020000
DTSTAMP:20260421T100247
CREATED:20250604T161924Z
LAST-MODIFIED:20250604T161929Z
UID:5490-1749240000-1749261600@caymanvisitor.com
SUMMARY:Young Again: Fall & Laugh Skate Fest
DESCRIPTION:Young Again
URL:https://caymanvisitor.com/event/young-again-fall-laugh-skate-fest/
LOCATION:Kings Sport Cayman
ATTACH;FMTTYPE=image/png:https://caymanvisitor.com/wp-content/uploads/2025/06/1741905337.png
END:VEVENT
BEGIN:VEVENT
DTSTART;TZID=UTC:20250607T070000
DTEND;TZID=UTC:20250607T073000
DTSTAMP:20260421T100247
CREATED:20250605T213219Z
LAST-MODIFIED:20250605T213334Z
UID:5510-1749279600-1749281400@caymanvisitor.com
SUMMARY:Breakfast Zumba Driftwood Bar & Grill
DESCRIPTION:Join Driftwood every Friday\, Saturday and Sunday for an energising Zumba session that feels more like a party than a workout! \nBurn calories\, boost your energy and have fun while moving to infectious beats. Join the group for a healthy breakfast afterwards at the Driftwood restaurant. \nAll fitness levels welcome – no experience needed! Breakfast is not included.
URL:https://caymanvisitor.com/event/breakfast-zumba-driftwood-bar-grill/
LOCATION:Grand Caymanian Resort\, 278 Crighton Drive\, George Town\, Grand Cayman
ATTACH;FMTTYPE=image/png:https://caymanvisitor.com/wp-content/uploads/2025/06/Zumba-copy.png
END:VEVENT
END:VCALENDAR