BEGIN:VCALENDAR
VERSION:2.0
PRODID:-//Caymanvisitor - ECPv6.15.1.1//NONSGML v1.0//EN
CALSCALE:GREGORIAN
METHOD:PUBLISH
X-WR-CALNAME:Caymanvisitor
X-ORIGINAL-URL:https://caymanvisitor.com
X-WR-CALDESC:Events for Caymanvisitor
REFRESH-INTERVAL;VALUE=DURATION:PT1H
X-Robots-Tag:noindex
X-PUBLISHED-TTL:PT1H
BEGIN:VTIMEZONE
TZID:UTC
BEGIN:STANDARD
TZOFFSETFROM:+0000
TZOFFSETTO:+0000
TZNAME:UTC
DTSTART:20250101T000000
END:STANDARD
END:VTIMEZONE
BEGIN:VEVENT
DTSTART;TZID=UTC:20250615T113000
DTEND;TZID=UTC:20250615T143000
DTSTAMP:20260421T163850
CREATED:20250507T162627Z
LAST-MODIFIED:20250507T162627Z
UID:5410-1749987000-1749997800@caymanvisitor.com
SUMMARY:Luca Sunday Brunch
DESCRIPTION:LUCA’s brunch is one of the highlights of Cayman life. Popular and full every Sunday from the moment the doors open at 11.30am\, word has now got out and the same people come week after week\, knowing it is good value and the food is close to perfect. \nLUCA itself is an impressive contemporary Italian restaurant on an enviable stretch of Seven Mile Beach. From the sublime seared tuna sashimi to the wonderful mini gazpacho shots and everything in between\, LUCA’s brunch is impressive. \n\n\nPricing\n\n\nAdults (plus bubbles)$75\n\n\nChildren Aged 5-10$35\n\n\n\n\nAdditional Information\n\nReservations required.
URL:https://caymanvisitor.com/event/luca-sunday-brunch-15/
LOCATION:Caribbean Club Hotel\, Seven Mile Beach Rd
END:VEVENT
BEGIN:VEVENT
DTSTART;TZID=UTC:20250615T113000
DTEND;TZID=UTC:20250615T143000
DTSTAMP:20260421T163850
CREATED:20250507T160010Z
LAST-MODIFIED:20250507T160010Z
UID:5402-1749987000-1749997800@caymanvisitor.com
SUMMARY:Sunday Brunch at Pappagallo's
DESCRIPTION:Make your Sunday unforgettable with brunch at Pappagallo! \nEvery Sunday you will find the perfect atmosphere with family and friends. Go on a culinary tour with Chef Alex and over 100 Items: extensive seafood\, live carving station\, breakfast station\, salad and soup\, hot mains\, weekly specials\, an international cheese station and handcrafted hot and cold desserts. \n\n\nPricing\n\n\nFood only$75\n\n\nBottomless bubbles$88\n\n\nBottomless champagne$135\n\n\nKids (5-10 years)$30\n\n\n\nPlus gratuity
URL:https://caymanvisitor.com/event/sunday-brunch-at-pappagallos-10/
LOCATION:444B Conch Point Road\, West Bay\, Cayman Islands
END:VEVENT
BEGIN:VEVENT
DTSTART;TZID=UTC:20250615T110000
DTEND;TZID=UTC:20250615T150000
DTSTAMP:20260421T163850
CREATED:20250507T162825Z
LAST-MODIFIED:20250507T162825Z
UID:5411-1749985200-1749999600@caymanvisitor.com
SUMMARY:Sunday Brunch at Blue Cilantro
DESCRIPTION:Blue Cilantro’s Sunday brunch is an adventure featuring only the freshest and best in culinary delights. \nThe unlimited brunch menu features a delightful selection of palate teasers and sweet delicacies in an ambiance of casual elegance. It also offers a variety of delicious dishes ranging from traditional breakfast favourites to shrimp\, oysters\, crab claws and sushi options\, exciting weekly changing main courses and a sumptuous choice of desserts to top off the feast. \n\n\nPricing\n\n\nFood only$70\n\n\nFood\, including prosecco\, house wine\, Aperol Spritz\, mango or strawberry mojito and gin fizz$85\n\n\nFood\, including champagne$140\n\n\nChildren (under 10 years)$32\n\n\n\nPlus gratuity
URL:https://caymanvisitor.com/event/sunday-brunch-at-blue-cilantro-8/
LOCATION:Fidelity Financial Centre\, West Bay Rd.\, Cayman Islands
END:VEVENT
BEGIN:VEVENT
DTSTART;TZID=UTC:20250615T110000
DTEND;TZID=UTC:20250615T150000
DTSTAMP:20260421T163850
CREATED:20250507T162153Z
LAST-MODIFIED:20250507T162153Z
UID:5408-1749985200-1749999600@caymanvisitor.com
SUMMARY:Sunday Brunch at Union
DESCRIPTION:Celebrate Sundays with family or friends at Union. Their ‘Big City’ brunch features an a la carte menu of all your favourite weekend dishes – choose from sweet waffles\, eggs a dozen ways\, seafood\, fish\, steaks\, burgers and our famous Roast Rib of Beef (with all the trimmings). And don’t forget about bottomless bubbles too. \nNote: this is not a buffet brunch; you choose exactly what you want from the a la carte menu. This gives you total freedom to enjoy Sunday your way. \nBring the little ones too for colouring competitions and prizes. \nDogs are also welcome on the terrace\, and Union’s has chef-made snacks for your furry friend.​
URL:https://caymanvisitor.com/event/sunday-brunch-at-union-8/
LOCATION:The Cresent\, Camana Bay\, Cayman Islands
END:VEVENT
BEGIN:VEVENT
DTSTART;TZID=UTC:20250615T110000
DTEND;TZID=UTC:20250615T150000
DTSTAMP:20260421T163850
CREATED:20250507T155357Z
LAST-MODIFIED:20250507T155357Z
UID:5400-1749985200-1749999600@caymanvisitor.com
SUMMARY:Sunday Brunch at The Westin
DESCRIPTION:With a buffet menu as expansive as the ocean views\, Bottega Millesimato sparkling wine\, Mud House Sauvignon Blanc and signature Margaritas… prepare for an extravagant feast! \nHead to The Westin every Sunday and delve into their delectable Sunday Brunch. \n\n\nPricing\n\n\nAdult$85\n\n\nKids (4-12 years)$30\n\n\n\nPlus gratuity
URL:https://caymanvisitor.com/event/sunday-brunch-at-the-westin-9/
LOCATION:Westin Casuarina Resort\, Seven Mile Beach\, Grand Cayman\, Cayman Islands
END:VEVENT
BEGIN:VEVENT
DTSTART;TZID=UTC:20250614T190000
DTEND;TZID=UTC:20250614T230000
DTSTAMP:20260421T163850
CREATED:20250604T153747Z
LAST-MODIFIED:20250604T163830Z
UID:5483-1749927600-1749942000@caymanvisitor.com
SUMMARY:Home For Carnvial
DESCRIPTION:HOME for Carnival\nSaturday\, June 14th | Sandbar \nThis isn’t just another Carnival event — this is HOME.\nA space where the music hits your chest\, the people feel like family\, and the vibes never miss.\nFrom the first riddim to the last wine\, we’re bringing it all back to where it belongs. \nExpect pure energy\, unforgettable moments\, and that feeling you’ve been waiting for all season.
URL:https://caymanvisitor.com/event/home-for-carnvial/
LOCATION:Sandbar\, Waterfront\, Cayman Islands
ATTACH;FMTTYPE=image/webp:https://caymanvisitor.com/wp-content/uploads/2025/06/Home-for-Carnvial.webp
END:VEVENT
BEGIN:VEVENT
DTSTART;TZID=UTC:20250614T190000
DTEND;TZID=UTC:20250614T220000
DTSTAMP:20260421T163850
CREATED:20250507T154408Z
LAST-MODIFIED:20250507T154408Z
UID:5396-1749927600-1749938400@caymanvisitor.com
SUMMARY:Live Music Saturday at Abacus
DESCRIPTION:Treat yourself to a special Saturday evening of live Caribbean music and delicious food. \nEvery Saturday at Camana Bay\, sit down and relax to some chilled live music\, a glass of fine wine and some of Cayman’s best dishes from land and sea.
URL:https://caymanvisitor.com/event/live-music-saturday-at-abacus-21/
LOCATION:45 Market St\, Camana Bay
END:VEVENT
BEGIN:VEVENT
DTSTART;TZID=UTC:20250614T183000
DTEND;TZID=UTC:20250614T203000
DTSTAMP:20260421T163850
CREATED:20250507T154118Z
LAST-MODIFIED:20250507T154118Z
UID:5395-1749925800-1749933000@caymanvisitor.com
SUMMARY:Daisy Lee Live at Union
DESCRIPTION:Enjoy the sound of soulful vibes\, jazz\, blues and pop covers with Daisy Lee at Union every Saturday. \nCome for the live music\, stay for the fantastic cocktails and delicious food!
URL:https://caymanvisitor.com/event/daisy-lee-live-at-union-16/
LOCATION:The Cresent\, Camana Bay\, Cayman Islands
END:VEVENT
BEGIN:VEVENT
DTSTART;TZID=UTC:20250614T180000
DTEND;TZID=UTC:20250614T220000
DTSTAMP:20260421T163850
CREATED:20250507T154839Z
LAST-MODIFIED:20250507T154839Z
UID:5398-1749924000-1749938400@caymanvisitor.com
SUMMARY:Zarautz Night\, Anchor & Den
DESCRIPTION:Join Anchor & Den as they bring their themed night\, Zarautz\, to life. Experience the vibrant taste of Spanish tapas\, featuring a menu crafted with classic dishes and accompanied by live music. Their chef has curated a selection of beautifully delicious options\, including gambones al ajillo\, octopus paella\, patatas bravas\, fried calamari\, and tortilla de patatas and chorizo\, just to name a few. \nThey also offer unique Spanish wines\, sangrias\, and handcrafted cocktails\, making this a night of truly authentic experiences. Between the tapas and the sangrias\, you’ll feel like you’re right there in Spain. \nLive entertainment with music. \nA la carte menu.
URL:https://caymanvisitor.com/event/zarautz-night-anchor-den-9/
LOCATION:Grand Cayman Marriott Beach Resort\, Cayman Islands
END:VEVENT
BEGIN:VEVENT
DTSTART;TZID=UTC:20250614T143000
DTEND;TZID=UTC:20250614T170000
DTSTAMP:20260421T163850
CREATED:20250605T185519Z
LAST-MODIFIED:20250605T185519Z
UID:5500-1749911400-1749920400@caymanvisitor.com
SUMMARY:Flowers Sea Swim Grand Cayman
DESCRIPTION:The Cayman Islands\, located in the beautiful Caribbean Sea with crystal clear waters\, white sands\, and warm weather all year\, is the perfect location for outdoor water sports. Over two decades ago\, against such an ideal backdrop\, the tradition of the Flowers One Mile Sea Swim began. As the event swims into its 33rd year on 14 June 2025\, The Flowers Group invite you to participate in what has come to be considered a must-do event for open water aficionados and has been named one of the World’s Top 10 Open Water Swims. \nThe Flowers Sea Swim is Grand Cayman’s flagship sporting event – each year hosting almost 1000 registered participants. Participants vary in age from 8 to 80 years old and in skill from novices and first-timers to gold medal Olympians and world championship open water specialists from around the globe. The Flowers Sea Swim welcomes Swimmers from all strokes of life! \nThe unique draw of the Flowers Sea Swim is not only its flawless course conditions along Cayman’s beautiful Seven Mile Beach but the numerous random prizes. The race is the world’s richest open water event with over $100\,000 in cash and random prizes. The odds to win a random prize are 1-in-7 and previous giveaways have included smartphones\, tablets\, hotel stays\, and dozens of airline tickets to premier destinations such as Miami\, New York\, Panama\, Rome\, Los Angeles\, Las Vegas\, Chicago\, London\, Dublin\, Rio De Janerio\, and Toronto. All finishers receive a fantastic t-shirt and goody bag filled with prizes and surprises! \nRegistration is now open. All swim registration proceeds will be donated to the Swim Free Program. \nNote: the 3k & 10k events will not be held this year. \nPricing\n\n\nPer adult$60\n\n\nWalk and Watch$30
URL:https://caymanvisitor.com/event/flowers-sea-swim-grand-cayman/
LOCATION:Seven Mile Beach\, Cayman Islands
END:VEVENT
BEGIN:VEVENT
DTSTART;TZID=UTC:20250614T140000
DTEND;TZID=UTC:20250614T160000
DTSTAMP:20260421T163850
CREATED:20250507T155147Z
LAST-MODIFIED:20250507T155147Z
UID:5399-1749909600-1749916800@caymanvisitor.com
SUMMARY:Afternoon Tea at Silver Palm Lounge
DESCRIPTION:The Ritz-Carlton invite you to join them for an enchanting afternoon tea at Silver Palm Lounge. \nIndulge in an array of delightful teas\, scrumptious pastries and finger sandwiches. \nCheck out their full afternoon tea menu here! \n\n\nPricing\n\n\nCayman Brac Tea$50\n\n\nGrand Cayman Tea$68\n\n\n\nPlus gratuity
URL:https://caymanvisitor.com/event/afternoon-tea-at-silver-palm-lounge-25/
LOCATION:Ritz Carlton\, Cayman Islands
END:VEVENT
BEGIN:VEVENT
DTSTART;TZID=UTC:20250614T133000
DTEND;TZID=UTC:20250614T163000
DTSTAMP:20260421T163850
CREATED:20250507T154633Z
LAST-MODIFIED:20250507T154633Z
UID:5397-1749907800-1749918600@caymanvisitor.com
SUMMARY:Mad Tea Party
DESCRIPTION:Anchor & Den’s whimsical afternoon tea\, inspired by Alice in Wonderland’s Mad Hatter tea party\, celebrates art\, literature and delicious treats. \nBegin with a welcome glass of bubbles and enjoy creative tea blends from Tea Time in Cayman\, alongside a decadent display of cool cakes\, desserts\, tea-time classics and fun ‘Drink Me’ potions. \nIt won’t be your average cup of tea! \n\n\nPricing\n\n\nPer person$43\n\n\n\nPlus gratuity
URL:https://caymanvisitor.com/event/mad-tea-party-19/
LOCATION:Grand Cayman Marriott Beach Resort\, Cayman Islands
END:VEVENT
BEGIN:VEVENT
DTSTART;TZID=UTC:20250614T130000
DTEND;TZID=UTC:20250614T150000
DTSTAMP:20260421T163850
CREATED:20250507T153743Z
LAST-MODIFIED:20250507T153743Z
UID:5394-1749906000-1749913200@caymanvisitor.com
SUMMARY:Saturday Sessions at Kaibo
DESCRIPTION:Nothing lifts the spirit like good music. \nHead out to the Saturday Sessions at Kaibo Beach to enjoy chill out tracks play on the decks\, and live musician Denys Carbo playing saxophone to lunchtime diners. It’s the soundtrack to your awesome weekend!
URL:https://caymanvisitor.com/event/saturday-sessions-at-kaibo-18/
LOCATION:Kaibo Beach
END:VEVENT
BEGIN:VEVENT
DTSTART;TZID=UTC:20250613T213000
DTEND;TZID=UTC:20250613T233000
DTSTAMP:20260421T163850
CREATED:20250507T153217Z
LAST-MODIFIED:20250507T153217Z
UID:5392-1749850200-1749857400@caymanvisitor.com
SUMMARY:The Club Fridays\, Next Door
DESCRIPTION:The Club at Next Door is the place to be. \nDance away the week and kick off your weekend in style with Next Door. Walk-ins are welcome\, but if you want to secure a spot\, you better call!
URL:https://caymanvisitor.com/event/the-club-fridays-next-door-9/
LOCATION:The Cresent\, Camana Bay\, Cayman Islands
END:VEVENT
BEGIN:VEVENT
DTSTART;TZID=UTC:20250613T180000
DTEND;TZID=UTC:20250613T220000
DTSTAMP:20260421T163850
CREATED:20250507T152738Z
LAST-MODIFIED:20250507T152738Z
UID:5390-1749837600-1749852000@caymanvisitor.com
SUMMARY:Kaibo's Luna Del Mar
DESCRIPTION:Make memories at Luna Del Mar with full moon dining\, live DJ\, fire pit and sharing feast. \nTaste 10 delightful dishes that come to every table to share family-style. If one of your party has dietary requirements\, please alert Kaibo in advance when booking. View the Luna del Mar sample menu here. \nEstablished since the full moon June 2007\, the buzzing vibe\, free of pretention\, has caused many to fall in love with Luna Del Mar. With sand-between-your-toes\, star and moon gazing\, and palm fringed shores\, Luna Del Mar is the  place to gather your good friends for your next special night out. \n6.30pm-8.30pm Rico Rolando\, a Caymanian musician known for blending reggae and R&B with his rich cultural heritage\, will be performing. Over the years\, Rico has opened for renowned artists like Alicia Keys\, Flo-Rida and Kymani Marley. He is joined by pianist Kharim Samuels and guitarist Bucky\, creating the perfect island vibe for an unforgettable night. \n\nFebruary 14th (Snow Moon)\nMarch 14th (Worm Moon)\nApril 11th (Pink Moon)\nMay 9th (Flower Moon)\nJune 13th (Strawberry Moon)\nJuly 11th (Buck Moon)\n\nRide across the water with Cayman Ferries from Camana Bay on this perfect night for boating. \nVisit the Kaibo website for more information. \n\n\nPricing\n\n\n10-dish dinner$59\n\n\nThree-course children’s menu (under 8 years)$24\n\n\n\nPlus gratuity
URL:https://caymanvisitor.com/event/kaibos-luna-del-mar-3/
LOCATION:Kaibo Beach
END:VEVENT
BEGIN:VEVENT
DTSTART;TZID=UTC:20250613T180000
DTEND;TZID=UTC:20250613T210000
DTSTAMP:20260421T163850
CREATED:20250507T153425Z
LAST-MODIFIED:20250507T153425Z
UID:5393-1749837600-1749848400@caymanvisitor.com
SUMMARY:Live Caribbean Music at Tukka West
DESCRIPTION:Head to Tukka West every Friday for live harp music. \nSit oceanside\, enjoy some delicious grub and be relaxed by the music on the breeze.
URL:https://caymanvisitor.com/event/live-caribbean-music-at-tukka-west-18/
LOCATION:Tukka West\, Head to Tukka West every Saturday for live Caribbean music. Sit oceanside\, enjoy some delicious grub and be relaxed by the music on the breeze.\, Grand Cayman\, Cayman Islands
END:VEVENT
BEGIN:VEVENT
DTSTART;TZID=UTC:20250613T163000
DTEND;TZID=UTC:20250613T233000
DTSTAMP:20260421T163850
CREATED:20250605T185156Z
LAST-MODIFIED:20250605T185156Z
UID:5496-1749832200-1749857400@caymanvisitor.com
SUMMARY:Cayman Big Game XI
DESCRIPTION:Each season the Cayman National Men’s XV’s team competes in the Rugby Americas North (RAN) tournament between May and July. The team have two fixtures this year\, one away and one at home\, the home games commonly known as Cayman Big Game \nThis year will be Cayman Big Game XI and we will be hosting Bermuda at home \nTo add to the excitement\, Cayman Women will play Bermuda Women in a 10s match ahead of the Men’s Test Match. \nTickets: \n\nEarly Bird: On sale May 1st to 21st\, 2025\nGeneral Admission: On sale May 22nd to June 12th\, 2025\nLast Minute: On sale June 13th\, 2025\n\nGates open 4.30pm \nSchedule of Events: \n4:30pm – Gates open \n4:30pm – Hospitality Centre will open to all VIPs \n4:30pm – Public Beer Tent opens \n5:40pm – Cayman Rugby Women v Bermuda Rugby Women  \n6:00pm – Half time \n6:05pm – Cayman Rugby Women v Bermuda Rugby Women 2nd half \n7:10pm – Welcome followed by National Anthems\n7:30pm – Cayman Islands V Bermuda \n8:10pm – Half Time\n8:20pm – Cayman Islands V Bermuda 2nd half \n9:30pm – LIVE band – The Neverines \n11:30pm – Tunes in the beer tent until close\nTICKETS WILL NOT BE AVAILABLE AT THE GAME SO GET YOUR TICKETS ONLINE \nREFUND POLICY: NO REFUNDS UNLESS THE EVENT IS CANCELLED \n\n\nPricing\n\n\nEarly Bird – ADULT$15\n\n\nEarly Bird – CHILD (Under 18)$8\n\n\nGeneral Admission – ADULT$25\n\n\nGeneral Admission – CHILD (Under 18)$18\n\n\nLast Minute$30\n\n\n\n\nAdditional Information\n\nThe Cayman Men’s National XV is proudly sponsored by FFP
URL:https://caymanvisitor.com/event/cayman-big-game-xi/
LOCATION:Truman Bodden Sports Complex\, George Town
END:VEVENT
BEGIN:VEVENT
DTSTART;TZID=UTC:20250613T080000
DTEND;TZID=UTC:20250613T170000
DTSTAMP:20260421T163850
CREATED:20250507T153007Z
LAST-MODIFIED:20250507T153007Z
UID:5391-1749801600-1749834000@caymanvisitor.com
SUMMARY:Rockin' Ramen
DESCRIPTION:Ramen has a rich and flavourful history\, with origins in China\, and it became popular in Japan in the early 1900s. \nNow loved worldwide for its delicious broth and handmade noodles\, you can savour the artistry of elevated street food at Anchor & Den with Rockin’ Ramen every Friday\, where this dish is expertly prepared right before your eyes\, and a live DJ will entertain. \nA la carte menu.
URL:https://caymanvisitor.com/event/rockin-ramen-18/
LOCATION:Grand Cayman Marriott Beach Resort\, Cayman Islands
END:VEVENT
BEGIN:VEVENT
DTSTART;TZID=UTC:20250612T183000
DTEND;TZID=UTC:20250612T203000
DTSTAMP:20260421T163850
CREATED:20250507T152528Z
LAST-MODIFIED:20250507T152528Z
UID:5389-1749753000-1749760200@caymanvisitor.com
SUMMARY:Dinner Jazz\, Union Grill & Bar
DESCRIPTION:Thursday night is Jazz Night at Union. Listen to the polished sounds of local legend Devon Edie on sax. Thirsty Thursdays just got a whole lot better! \nDine at a table or the bar.
URL:https://caymanvisitor.com/event/dinner-jazz-union-grill-bar-18/
LOCATION:The Cresent\, Camana Bay\, Cayman Islands
END:VEVENT
BEGIN:VEVENT
DTSTART;TZID=UTC:20250612T180000
DTEND;TZID=UTC:20250612T220000
DTSTAMP:20260421T163850
CREATED:20250507T152338Z
LAST-MODIFIED:20250507T152338Z
UID:5388-1749751200-1749765600@caymanvisitor.com
SUMMARY:Souq Night\, Anchor & Den
DESCRIPTION:Immerse yourself in a world of sensory delights with A&D’s special\, Middle East-inspired all-you-can-eat menu. \nBreathe in the enticing aromas that fill the air\, feast your eyes on the vibrant decor\, enjoy the live DJ\, and indulge in delicious dishes crafted from the rich culinary traditions of the region. \n\n\nPricing\n\n\nPer person$35\n\n\n\nPlus gratuity
URL:https://caymanvisitor.com/event/souq-night-anchor-den-7/
LOCATION:Grand Cayman Marriott Beach Resort\, Cayman Islands
END:VEVENT
BEGIN:VEVENT
DTSTART;TZID=UTC:20250607T070000
DTEND;TZID=UTC:20250607T073000
DTSTAMP:20260421T163850
CREATED:20250605T213219Z
LAST-MODIFIED:20250605T213334Z
UID:5510-1749279600-1749281400@caymanvisitor.com
SUMMARY:Breakfast Zumba Driftwood Bar & Grill
DESCRIPTION:Join Driftwood every Friday\, Saturday and Sunday for an energising Zumba session that feels more like a party than a workout! \nBurn calories\, boost your energy and have fun while moving to infectious beats. Join the group for a healthy breakfast afterwards at the Driftwood restaurant. \nAll fitness levels welcome – no experience needed! Breakfast is not included.
URL:https://caymanvisitor.com/event/breakfast-zumba-driftwood-bar-grill/
LOCATION:Grand Caymanian Resort\, 278 Crighton Drive\, George Town\, Grand Cayman
ATTACH;FMTTYPE=image/png:https://caymanvisitor.com/wp-content/uploads/2025/06/Zumba-copy.png
END:VEVENT
BEGIN:VEVENT
DTSTART;TZID=UTC:20250606T200000
DTEND;TZID=UTC:20250607T020000
DTSTAMP:20260421T163850
CREATED:20250604T161924Z
LAST-MODIFIED:20250604T161929Z
UID:5490-1749240000-1749261600@caymanvisitor.com
SUMMARY:Young Again: Fall & Laugh Skate Fest
DESCRIPTION:Young Again
URL:https://caymanvisitor.com/event/young-again-fall-laugh-skate-fest/
LOCATION:Kings Sport Cayman
ATTACH;FMTTYPE=image/png:https://caymanvisitor.com/wp-content/uploads/2025/06/1741905337.png
END:VEVENT
BEGIN:VEVENT
DTSTART;TZID=UTC:20250603T173000
DTEND;TZID=UTC:20250603T213000
DTSTAMP:20260421T163850
CREATED:20250501T180725Z
LAST-MODIFIED:20250501T180725Z
UID:5382-1748971800-1748986200@caymanvisitor.com
SUMMARY:Barefoot Beach BBQ at Kaibo
DESCRIPTION:Join Kaibo’s Barefoot Beach BBQ every Tuesday! \nThe Caribbean BBQ menu\, with local recipes and ingredients\, includes local fish\, a variety of Cayman-style meats\, Caribbean vegetarian curry\, a variety of classic salads and sides. There is also a vegetarian BBQ menu. \nLocal bands play Cayman’s favourite soca\, calypso and reggae songs\, to get you dancing\, limboing and doing the conga. Leave your shoes at home on Tuesday night and head to the beach! \n\nBoat departs Camana Bay at 6pm sharp. Arrives at Kaibo 6.25pm\nDinner starts 5.30pm. Live music is 7pm-9pm\nBoat leaves Kaibo Beach at 9.30pm. Arrives at Camana Bay 9.55pm\n\nSpaces are limited\, reservations for the water taxi are essential. \n\n\nPricing\n\n\nAdults$45\n\n\nChildren under 12$25\n\n\n\n\nAdditional Information\n\nReservations are essential
URL:https://caymanvisitor.com/event/barefoot-beach-bbq-at-kaibo-28/
LOCATION:Kaibo Beach
END:VEVENT
BEGIN:VEVENT
DTSTART;TZID=UTC:20250601T113000
DTEND;TZID=UTC:20250601T150000
DTSTAMP:20260421T163850
CREATED:20250429T184444Z
LAST-MODIFIED:20250429T184444Z
UID:5378-1748777400-1748790000@caymanvisitor.com
SUMMARY:Sunday Brunch at Tukka East
DESCRIPTION:Join Tukka East for a unique oceanfront brunch\, overlooking the gorgeous Caribbean Sea. \nOutdoor Aussie BBQ\, made to order Eggs Benedict and breakfast favourites\, sushi\, soups\, salads\, a tempting selection of hot dishes\, ribs\, seafood\, pasta\, sweet desserts and heaps more! \nFrigate bird feeding at 1pm every Sunday. Lunch menu is available all day. \n\n\nPricing\n\n\nAdult (food only)$39\n\n\nKids (6-12 years)$19\n\n\nBottomless bubbles$25
URL:https://caymanvisitor.com/event/sunday-brunch-at-tukka-east-16/
LOCATION:Tukka East\, 898 Austin Conolly Drive\, East End\, Grand Cayman\, Grand Cayman\, Cayman Islands
END:VEVENT
BEGIN:VEVENT
DTSTART;TZID=UTC:20250601T113000
DTEND;TZID=UTC:20250601T143000
DTSTAMP:20260421T163850
CREATED:20250429T204330Z
LAST-MODIFIED:20250429T204330Z
UID:5379-1748777400-1748788200@caymanvisitor.com
SUMMARY:Luca Sunday Brunch
DESCRIPTION:LUCA’s brunch is one of the highlights of Cayman life. Popular and full every Sunday from the moment the doors open at 11.30am\, word has now got out and the same people come week after week\, knowing it is good value and the food is close to perfect. \nLUCA itself is an impressive contemporary Italian restaurant on an enviable stretch of Seven Mile Beach. From the sublime seared tuna sashimi to the wonderful mini gazpacho shots and everything in between\, LUCA’s brunch is impressive. \n\n\nPricing\n\n\nAdults (plus bubbles)$75\n\n\nChildren Aged 5-10$35\n\n\n\n\nAdditional Information\n\nReservations required.
URL:https://caymanvisitor.com/event/luca-sunday-brunch-14/
LOCATION:Luca\, Caribbean Club Hotel\, West Bay\, Grand Cayman
END:VEVENT
BEGIN:VEVENT
DTSTART;TZID=UTC:20250601T110000
DTEND;TZID=UTC:20250601T150000
DTSTAMP:20260421T163850
CREATED:20250429T204714Z
LAST-MODIFIED:20250429T204714Z
UID:5380-1748775600-1748790000@caymanvisitor.com
SUMMARY:Sunday Brunch at Blue Cilantro
DESCRIPTION:Blue Cilantro’s Sunday brunch is an adventure featuring only the freshest and best in culinary delights. \nThe unlimited brunch menu features a delightful selection of palate teasers and sweet delicacies in an ambiance of casual elegance. It also offers a variety of delicious dishes ranging from traditional breakfast favourites to shrimp\, oysters\, crab claws and sushi options\, exciting weekly changing main courses and a sumptuous choice of desserts to top off the feast. \n\n\nPricing\n\n\nFood only$70\n\n\nFood\, including prosecco\, house wine\, Aperol Spritz\, mango or strawberry mojito and gin fizz$85\n\n\nFood\, including champagne$140\n\n\nChildren (under 10 years)$32\n\n\n\nPlus gratuity
URL:https://caymanvisitor.com/event/sunday-brunch-at-blue-cilantro-7/
LOCATION:Fidelity Financial Centre\, West Bay Rd.\, Cayman Islands
END:VEVENT
BEGIN:VEVENT
DTSTART;TZID=UTC:20250601T110000
DTEND;TZID=UTC:20250601T150000
DTSTAMP:20260421T163850
CREATED:20250429T183434Z
LAST-MODIFIED:20250429T183434Z
UID:5375-1748775600-1748790000@caymanvisitor.com
SUMMARY:Sunday brunch at Westin
DESCRIPTION:With a buffet menu as expansive as the ocean views\, Bottega Millesimato sparkling wine\, Mud House Sauvignon Blanc and signature Margaritas… prepare for an extravagant feast! \nHead to The Westin every Sunday and delve into their delectable Sunday Brunch. \n\n\nPricing\n\n\nAdult$85\n\n\nKids (4-12 years)$30\n\n\n\nPlus gratuity
URL:https://caymanvisitor.com/event/sunday-brunch-at-westin/
LOCATION:Westin Casuarina Resort\, Seven Mile Beach\, Grand Cayman\, Cayman Islands
END:VEVENT
BEGIN:VEVENT
DTSTART;TZID=UTC:20250601T070000
DTEND;TZID=UTC:20250601T073000
DTSTAMP:20260421T163850
CREATED:20250429T184218Z
LAST-MODIFIED:20250429T184218Z
UID:5376-1748761200-1748763000@caymanvisitor.com
SUMMARY:Breakfast Zumba at Driftwood Bar & Grill
DESCRIPTION:Join Driftwood every Friday\, Saturday and Sunday for an energising Zumba session that feels more like a party than a workout! \nBurn calories\, boost your energy and have fun while moving to infectious beats. Join the group for a healthy breakfast afterwards at the Driftwood restaurant. \nAll fitness levels welcome – no experience needed! Breakfast is not included. \n\n\nPricing\n\n\nPer person$5\n\n\n\nBreakfast is an additional charge
URL:https://caymanvisitor.com/event/breakfast-zumba-at-driftwood-bar-grill/
LOCATION:Grand Caymanian Resort\, 278 Chrighton Drive\, George Town\, Cayman Islands
END:VEVENT
BEGIN:VEVENT
DTSTART;TZID=UTC:20250531T190000
DTEND;TZID=UTC:20250531T220000
DTSTAMP:20260421T163850
CREATED:20250314T152928Z
LAST-MODIFIED:20250314T152928Z
UID:5323-1748718000-1748728800@caymanvisitor.com
SUMMARY:Live Music Saturday at Abacus
DESCRIPTION:Treat yourself to a special Saturday evening of live Caribbean music and delicious food. \nEvery Saturday at Camana Bay\, sit down and relax to some chilled live music\, a glass of fine wine and some of Cayman’s best dishes from land and sea.
URL:https://caymanvisitor.com/event/live-music-saturday-at-abacus-20/
LOCATION:45 Market St\, Camana Bay
END:VEVENT
BEGIN:VEVENT
DTSTART;TZID=UTC:20250530T200000
DTEND;TZID=UTC:20250530T233000
DTSTAMP:20260421T163850
CREATED:20250314T152432Z
LAST-MODIFIED:20250314T152432Z
UID:5321-1748635200-1748647800@caymanvisitor.com
SUMMARY:Disco Inferno at The Wharf
DESCRIPTION:Your favourite party is back where it all began! \nIndulge in a waterfront dinner\, then hit the dance floor to your favourite retro hits; the best the 70s 80s and 90s have to offer! \nLet the rhythm take you back to the golden era. Gather your crew and get ready to shine!
URL:https://caymanvisitor.com/event/disco-inferno-at-the-wharf-2/
LOCATION:Seven Mile Beach\, Cayman Islands
END:VEVENT
END:VCALENDAR