BEGIN:VCALENDAR
VERSION:2.0
PRODID:-//Caymanvisitor - ECPv6.15.1.1//NONSGML v1.0//EN
CALSCALE:GREGORIAN
METHOD:PUBLISH
X-ORIGINAL-URL:https://caymanvisitor.com
X-WR-CALDESC:Events for Caymanvisitor
REFRESH-INTERVAL;VALUE=DURATION:PT1H
X-Robots-Tag:noindex
X-PUBLISHED-TTL:PT1H
BEGIN:VTIMEZONE
TZID:UTC
BEGIN:STANDARD
TZOFFSETFROM:+0000
TZOFFSETTO:+0000
TZNAME:UTC
DTSTART:20240101T000000
END:STANDARD
END:VTIMEZONE
BEGIN:VEVENT
DTSTART;TZID=UTC:20241208T180000
DTEND;TZID=UTC:20241208T210000
DTSTAMP:20260424T120941
CREATED:20241122T185706Z
LAST-MODIFIED:20241122T185706Z
UID:4293-1733680800-1733691600@caymanvisitor.com
SUMMARY:Christmas at the Castle\, Pedro St. James
DESCRIPTION:Pedro St. James is again hosting its Christmas at the Castle\, a celebration under the stars where friends and family can gather on the Great Lawn to celebrate the holiday season. \nChristmas at the Castle is set for Sunday\, 10th December 2023 (6 pm to 9 pm) and is free to the public. \nPatrons can expect Christmas carols\, praise and worship\, food and drink sales\, and free photos with Santa.  \nReturning to the event this year is the Christmas Market cottage industry businesses selling a selection of locally made products. \nPart of the proceeds will be donated to Literacy Is For Everyone (LIFE).
URL:https://caymanvisitor.com/event/christmas-at-the-castle-pedro-st-james-2/
LOCATION:Pedro St. James\, Pedro Castle Road\, Savannah\, ky1-1501\, Cayman Islands
END:VEVENT
BEGIN:VEVENT
DTSTART;TZID=UTC:20241208T183000
DTEND;TZID=UTC:20241208T203000
DTSTAMP:20260424T120941
CREATED:20241122T191049Z
LAST-MODIFIED:20241122T191049Z
UID:4302-1733682600-1733689800@caymanvisitor.com
SUMMARY:Alejandro Lemus Garcia at Pane & Pasta
DESCRIPTION:Alejandro Lemus Gracia will be performing every Monday at Pane & Pasta. \nReserve your table now and enjoy an authentic Italian meal alongside the beautiful sounds.
URL:https://caymanvisitor.com/event/alejandro-lemus-garcia-at-pane-pasta-8/
LOCATION:Pane & Pasta Pizzeria & Italian Restaurant\, 1 Nexus Way\, Camana Bay\, Grand Cayman\, Cayman Islands
END:VEVENT
BEGIN:VEVENT
DTSTART;TZID=UTC:20241208T183000
DTEND;TZID=UTC:20241208T203000
DTSTAMP:20260424T120941
CREATED:20241122T192300Z
LAST-MODIFIED:20241122T192300Z
UID:4305-1733682600-1733689800@caymanvisitor.com
SUMMARY:Madam Nirosa Live at Union
DESCRIPTION:Enjoy soul\, jazz\, blues and Motown at Union Grill every Sunday! \nThere’ll be steaks\, fish\, seafood and cocktails to enjoy as you listen to the musical stylings of Madam Nirosa.
URL:https://caymanvisitor.com/event/madam-nirosa-live-at-union-4/
LOCATION:Camana Bay
END:VEVENT
BEGIN:VEVENT
DTSTART;TZID=UTC:20241210T173000
DTEND;TZID=UTC:20241210T213000
DTSTAMP:20260424T120941
CREATED:20241123T142442Z
LAST-MODIFIED:20241123T142442Z
UID:4314-1733851800-1733866200@caymanvisitor.com
SUMMARY:Barefoot Beach BBQ at Kaibo
DESCRIPTION:Join Kaibo’s Barefoot Beach BBQ every Tuesday! \nThe Caribbean BBQ menu\, with local recipes and ingredients\, includes local fish\, a variety of Cayman-style meats\, Caribbean vegetarian curry\, a variety of classic salads and sides. There is also a vegetarian BBQ menu. \nLocal bands play Cayman’s favourite soca\, calypso and reggae songs\, to get you dancing\, limboing and doing the conga. Leave your shoes at home on Tuesday night and head to the beach! \n\nBoat departs Camana Bay at 6pm sharp. Arrives at Kaibo 6.25pm\nDinner starts 5.30pm. Live music is 7pm-9pm\nBoat leaves Kaibo Beach at 9.30pm. Arrives at Camana Bay 9.55pm\n\nSpaces are limited\, reservations for the water taxi are essential. \n\n\nPricing\n\n\nAdults $45\n\n\nChildren under 12 $25\n\n\n\n\nAdditional Information\n\nReservations are essential
URL:https://caymanvisitor.com/event/barefoot-beach-bbq-at-kaibo-6/
LOCATION:Kaibo Beach
END:VEVENT
BEGIN:VEVENT
DTSTART;TZID=UTC:20241210T193000
DTEND;TZID=UTC:20241210T230000
DTSTAMP:20260424T120941
CREATED:20241123T142631Z
LAST-MODIFIED:20241123T142631Z
UID:4315-1733859000-1733871600@caymanvisitor.com
SUMMARY:Trivia Night\, Salty's Sports Bar
DESCRIPTION:Feed your brain and head over to Salty’s for their Tuesday Trivia Nights! Great prizes are given out every week. You don’t want to miss this event\, as well as Absolut\, Fireball and Michelob Ultra specials. Event hosted by Dr Doug.
URL:https://caymanvisitor.com/event/trivia-night-saltys-sports-bar-3/
LOCATION:salty’s Grand Harbour
END:VEVENT
BEGIN:VEVENT
DTSTART;TZID=UTC:20241210T203000
DTEND;TZID=UTC:20241210T223000
DTSTAMP:20260424T120941
CREATED:20241123T142854Z
LAST-MODIFIED:20241123T142854Z
UID:4316-1733862600-1733869800@caymanvisitor.com
SUMMARY:Salsa Night\, Carib Night Lounge
DESCRIPTION:Salsa the night away every Tuesday with free lessons at Carib Night Lounge! 
URL:https://caymanvisitor.com/event/salsa-night-carib-night-lounge-4/
LOCATION:Carib Night Lounge\, 98 Shedden Road (Beside Elizabethan Square)\, George Town\, Grand Cayman
END:VEVENT
BEGIN:VEVENT
DTSTART;TZID=UTC:20241211T160000
DTEND;TZID=UTC:20241211T180000
DTSTAMP:20260424T120941
CREATED:20241123T143040Z
LAST-MODIFIED:20241123T143040Z
UID:4317-1733932800-1733940000@caymanvisitor.com
SUMMARY:Free Family Photos With Santa Claus\, Camana Bay
DESCRIPTION:Santa will be in Camana Bay this Christmas\, visiting not just once\, but three times! Have your photo taken with him for free! \nTraditional Santa will be visiting on Saturday 30th November\, 9am-11am and Saturday 11th December 2024 4pm-6pm\, and Caribbean Santa will visit on Saturday 7th December 2024\, 2.30pm-4.30pm.
URL:https://caymanvisitor.com/event/free-family-photos-with-santa-claus-camana-bay-8/
LOCATION:Camana Bay
END:VEVENT
BEGIN:VEVENT
DTSTART;TZID=UTC:20241211T170000
DTEND;TZID=UTC:20241211T213000
DTSTAMP:20260424T120941
CREATED:20241122T154821Z
LAST-MODIFIED:20241122T154821Z
UID:4236-1733936400-1733952600@caymanvisitor.com
SUMMARY:Dine Around the Mediterranean
DESCRIPTION:Join Aria as they explore the wonders of Mediterranean cuisine with their weekly adventure\, ‘Dine Around The Mediterranean’. \nThe exact location changes monthly\, so be sure to check out where they’re heading next on their website. \nEach menu will feature multiple courses and will include discounts on wines and champagnes. \nLimited seats\, so reserve your spot now! \n\n\nPricing\n\n\nPer person $45\n\n\n\nFour-course menu (price subject to change)
URL:https://caymanvisitor.com/event/dine-around-the-mediterranean-3/
LOCATION:Aria\, Harbour Walk\, 52a Edgewater Way\, Grand Harbour\, Grand Cayman\, Cayman Islands
END:VEVENT
BEGIN:VEVENT
DTSTART;TZID=UTC:20241211T170000
DTEND;TZID=UTC:20241211T213000
DTSTAMP:20260424T120941
CREATED:20241123T145058Z
LAST-MODIFIED:20241123T145058Z
UID:4321-1733936400-1733952600@caymanvisitor.com
SUMMARY:Dine Around the Mediterranean
DESCRIPTION:Join Aria as they explore the wonders of Mediterranean cuisine with their weekly adventure\, ‘Dine Around The Mediterranean’. \nThe exact location changes monthly\, so be sure to check out where they’re heading next on their website. \nEach menu will feature multiple courses and will include discounts on wines and champagnes. \nLimited seats\, so reserve your spot now! \n\n\nPricing\n\n\nPer person $45\n\n\n\nFour-course menu (price subject to change)
URL:https://caymanvisitor.com/event/dine-around-the-mediterranean-4/
LOCATION:Grand Harbour\, Harbour Walk\, 52a Edgewater Way\, Grand Harbour\, Grand Cayman\, Cayman Islands
END:VEVENT
BEGIN:VEVENT
DTSTART;TZID=UTC:20241211T173000
DTEND;TZID=UTC:20241211T220000
DTSTAMP:20260424T120941
CREATED:20241123T145707Z
LAST-MODIFIED:20241123T145707Z
UID:4324-1733938200-1733954400@caymanvisitor.com
SUMMARY:Lobster Night at Veranda
DESCRIPTION:Enjoy unique and delicious lobster dishes as you watch the sunset from your table. \nGather and enjoy a four-course et menu at their famous night at Veranda. Delight in flavourful dishes with lobster as the main theme – it’s a night you won’t want to miss. \nÀ la carte dinner menu also available. \n\n\nPricing\n\n\nTwo-course Menu $45\n\n\nFour-course Menu $65\n\n\n\nPlus service charge
URL:https://caymanvisitor.com/event/lobster-night-at-veranda-2/
LOCATION:Grand Cayman Marriott Beach Resort\, Cayman Islands
END:VEVENT
BEGIN:VEVENT
DTSTART;TZID=UTC:20241211T180000
DTEND;TZID=UTC:20241211T200000
DTSTAMP:20260424T120941
CREATED:20241123T144417Z
LAST-MODIFIED:20241123T144417Z
UID:4318-1733940000-1733947200@caymanvisitor.com
SUMMARY:Christmas Sing-Along Spectacular
DESCRIPTION:Cayman Music School and Guests present: All of your favourite Christmas and Disney songs\, performed by your favourite characters and you! \nThe audience gets to join in to create an unforgettable sing along experience! \nShow 1: 10th Decembe2024. \nShow 2: 11th December 2024. \n\n\nPricing\n\n\nAdult $25\n\n\nChild up to 12 years old $15
URL:https://caymanvisitor.com/event/christmas-sing-along-spectacular-2/
LOCATION:Harquail Theatre\, FJ Harquail Cultural Centre\, Cayman Islands
END:VEVENT
BEGIN:VEVENT
DTSTART;TZID=UTC:20241211T190000
DTEND;TZID=UTC:20241211T210000
DTSTAMP:20260424T120941
CREATED:20241123T145253Z
LAST-MODIFIED:20241123T145253Z
UID:4322-1733943600-1733950800@caymanvisitor.com
SUMMARY:Open Canvas at KARoo Grand Cayman
DESCRIPTION:Every Wednesday\, Open Canvas provides a public venue for local artists to display their talents and work on their latest creations. Art enthusiasts can join the gathering and watch paintings come to life one brushstroke at a time. Bring your own art supplies! \n\n\nAdditional Information\n\nPlease bring your own art supplies.
URL:https://caymanvisitor.com/event/open-canvas-at-karoo-grand-cayman-4/
LOCATION:Camana Bay
END:VEVENT
BEGIN:VEVENT
DTSTART;TZID=UTC:20241211T190000
DTEND;TZID=UTC:20241211T220000
DTSTAMP:20260424T120941
CREATED:20241123T145506Z
LAST-MODIFIED:20241123T145506Z
UID:4323-1733943600-1733954400@caymanvisitor.com
SUMMARY:
DESCRIPTION:Enjoy the sound of a professional concert pianist. \nGeorge Davidson is performing every Wednesday at Pane & Pasta in Camana Bay.
URL:https://caymanvisitor.com/event/4323/
LOCATION:Pane & Pasta Pizzeria & Italian Restaurant\, 1 Nexus Way\, Camana Bay\, Grand Cayman\, Cayman Islands
END:VEVENT
BEGIN:VEVENT
DTSTART;VALUE=DATE:20241212
DTEND;VALUE=DATE:20241213
DTSTAMP:20260424T120941
CREATED:20241123T151713Z
LAST-MODIFIED:20241123T151713Z
UID:4335-1733961600-1734047999@caymanvisitor.com
SUMMARY:DJ Romi Lux at Mykonos Steak Club
DESCRIPTION:Join Mykonos Steak Club for unforgettable evenings of dining and dancing! \nThey’re welcoming DJ Romi Lux from Miami\, Florida. With over 150 shows a year\, she has captivated audiences worldwide. Don’t miss out on these incredible nights! \nReserve your spot now on OpenTable or by emailing restaurant@mykonos.ky.
URL:https://caymanvisitor.com/event/dj-romi-lux-at-mykonos-steak-club/
LOCATION:The Grove\, West Bay Road\, Grand Cayman\, Cayman Islands
END:VEVENT
BEGIN:VEVENT
DTSTART;TZID=UTC:20241212T180000
DTEND;TZID=UTC:20241212T210000
DTSTAMP:20260424T120941
CREATED:20241123T150347Z
LAST-MODIFIED:20241123T150347Z
UID:4325-1734026400-1734037200@caymanvisitor.com
SUMMARY:Scoobyluminations\, Rackams
DESCRIPTION:Come down to Rackams – Santa will be arriving around 6.30pm on his sleigh. \nDrop some food / treats under the tree. Get puppy cuddles. \nHave a photo with Santa and Scooby Doo on the sofa. Buy your last minute Christmas raffle tickets and stuff from the stall.
URL:https://caymanvisitor.com/event/scoobyluminations-rackams/
LOCATION:93 North Church Street\, George Town\, Grand Cayman\, Cayman Islands
END:VEVENT
BEGIN:VEVENT
DTSTART;TZID=UTC:20241212T193000
DTEND;TZID=UTC:20241212T213000
DTSTAMP:20260424T120941
CREATED:20241123T150947Z
LAST-MODIFIED:20241123T150947Z
UID:4329-1734031800-1734039000@caymanvisitor.com
SUMMARY:Elmslie Church Carol Concert
DESCRIPTION:Get into the Christmas spirit with a traditional carol concert performed by the the Cayman National Choir and Orchestra\, a Resident Company of the F. J. Harquail Cultural Centre. A fantastic event with incredible performances! \nThis event will be taking place on two days: Tuesday\, 10th December and Thursday\, 12th December. \nThis is a free concert but donations are encouraged as a portion of the proceeds are donated back to the Elmslie Church. Seats are allocated on a first come\, first serve basis.
URL:https://caymanvisitor.com/event/elmslie-church-carol-concert-2/
LOCATION:The Elmslie Church\, 48 Harbour Drive\, G.T.\, Grand Cayman\, Cayman Islands
END:VEVENT
BEGIN:VEVENT
DTSTART;TZID=UTC:20241213T170000
DTEND;TZID=UTC:20241213T190000
DTSTAMP:20260424T120941
CREATED:20241123T152352Z
LAST-MODIFIED:20241123T152352Z
UID:4341-1734109200-1734116400@caymanvisitor.com
SUMMARY:Santa is coming to Harbour Walk
DESCRIPTION:Get ready for a magical holiday experience at Harbour Walk! Santa Claus is coming to town\, and this is your chance to meet him in person. Bring your family\, take photos with Santa\, and create lasting memories that will make your holiday season even more special. \nSaturday 7th December 11am-1pm and Friday 13th December 5pm-7pm 2024. \nDon’t miss out on this festive fun—join Harbour Walk! for a joyful time with Santa at Harbour Walk!
URL:https://caymanvisitor.com/event/santa-is-coming-to-harbour-walk-2/
LOCATION:Harbour Walk\, Grand Harbour Shopping Centre\, Cayman Islands
END:VEVENT
BEGIN:VEVENT
DTSTART;TZID=UTC:20241213T170000
DTEND;TZID=UTC:20241213T220000
DTSTAMP:20260424T120941
CREATED:20241123T152814Z
LAST-MODIFIED:20241123T152814Z
UID:4343-1734109200-1734127200@caymanvisitor.com
SUMMARY:Rockin' Ramen
DESCRIPTION:Going back in time\, ramen has had a flavorsome history. Quintessentially Japanese but Chinese in origin\, it only sprang to popularity in both countries in the early 1900s. Now across the world\, everyone is familiar with this favorite dish\, thanks to its rich soup and tasty handmade noodles. \nAnchor & Den love how this traditional street food has been elevated to an artisanal cuisine. Paired with awesome beats spun by their resident DJ\, this is a great way to settle into a chill and vibey week! \nWith happy hour alongside\, enjoy chilled beers\, cocktails and wines alongside your rockin ramen.
URL:https://caymanvisitor.com/event/rockin-ramen-4/
LOCATION:Grand Cayman Marriott Beach Resort\, Cayman Islands
END:VEVENT
BEGIN:VEVENT
DTSTART;TZID=UTC:20241213T173000
DTEND;TZID=UTC:20241213T223000
DTSTAMP:20260424T120941
CREATED:20241123T153308Z
LAST-MODIFIED:20241123T153308Z
UID:4345-1734111000-1734129000@caymanvisitor.com
SUMMARY:Prime Rib Night at Abacus
DESCRIPTION:Spend your Friday evenings indulging in a fantastic culinary experience at Abacus for their weekly Prime Rib Night! \nChoose a Queen or King cut of Prime Rib\, sip on some sensational wine and relax in the cool Caribbean breeze.
URL:https://caymanvisitor.com/event/prime-rib-night-at-abacus-4/
LOCATION:Camana Bay
END:VEVENT
BEGIN:VEVENT
DTSTART;TZID=UTC:20241213T180000
DTEND;TZID=UTC:20241213T220000
DTSTAMP:20260424T120941
CREATED:20241123T153537Z
LAST-MODIFIED:20241123T153537Z
UID:4346-1734112800-1734127200@caymanvisitor.com
SUMMARY:Asado Night at Veranda
DESCRIPTION:Join Veranda at The Marriott for a special evening to the Argentinian tradition of cooking with fire at their popular Asado Night. \nThis special night makes for a beautiful evening at the waterfront Veranda restaurant to the sound of waves crashing as the sun goes down. Chefs will be grilling a variety of mouth-watering meats\, vegetables and even some fruits on the Asador\, an Argentinian-style grill built over an open flame fire pit. \nCome hungry and devour the rich Argentinian culture cooked into this delicious night of food\, drinks\, good friends and live music. \nÀ la carte dinner menu available.
URL:https://caymanvisitor.com/event/asado-night-at-veranda-4/
LOCATION:Grand Cayman Marriott Beach Resort\, Cayman Islands
END:VEVENT
BEGIN:VEVENT
DTSTART;VALUE=DATE:20241214
DTEND;VALUE=DATE:20241215
DTSTAMP:20260424T120941
CREATED:20241123T155514Z
LAST-MODIFIED:20241123T155514Z
UID:4352-1734134400-1734220799@caymanvisitor.com
SUMMARY:Breakfast with Santa at the Cayman Turtle Centre
DESCRIPTION:What better way to start your day this holiday season than with a delicious breakfast with Christmas music\, games\, treats\, and a special encounter with Santa Claus himself! \nOn four dates only\, families can enjoy Breakfast with Santa at Cayman Turtle Centre’s Schooners Bar & Grill. \n\nSaturday 7th December\nSaturday 14th December\nSaturday 21st December\nSunday 22nd December\n\nIncludes a delicious breakfast\, meet\, and greet with Santa\, a gift for kids to take home and put under the tree; also\, kids can write a letter to Santa and drop it inside Santa’s personal mailbox! \nPre booking required. \n*Prices do not include full park admission \n\n\nPricing\n\n\nPer person (US$) $38\n\n\n\n\nAdditional Information\n\n\nBooking required.
URL:https://caymanvisitor.com/event/breakfast-with-santa-at-the-cayman-turtle-centre-6/
LOCATION:Cayman Turtle Centre\, Cayman Islands
END:VEVENT
BEGIN:VEVENT
DTSTART;TZID=UTC:20241214T080000
DTEND;TZID=UTC:20241214T170000
DTSTAMP:20260424T120941
CREATED:20241123T160307Z
LAST-MODIFIED:20241123T160307Z
UID:4356-1734163200-1734195600@caymanvisitor.com
SUMMARY:National Trust - Cayman Brac Fundraising Beach Gala
DESCRIPTION:Cayman Brac District Committee Fundraiser: Beach Gala\nJoin the Cayman Brac District Committee for their upcoming fundraiser “Beach Gala”. \nDate: 14th December 2024 \nTime: 6:30pm \nVenue: Soleil D’or Beach Club\, Cayman Brac \nEarly Bird Tickets $125 \nTicket Includes: Welcome Drink\, Dinner Buffet & Drinks. \nDress Code: Beach Chic \nExciting raffle and auction prizes! \nTickets available online\, click here to purchase tickets \nContact: Lead Event Organizer\, Cayman Brac District Committee Member Coralie email: coralie_moran@hotmail.com
URL:https://caymanvisitor.com/event/national-trust-cayman-brac-fundraising-beach-gala/
LOCATION:Soleil D’or\, Cayman Brac\, Cayman Islands
END:VEVENT
BEGIN:VEVENT
DTSTART;TZID=UTC:20241214T090000
DTEND;TZID=UTC:20241214T103000
DTSTAMP:20260424T120941
CREATED:20241123T163714Z
LAST-MODIFIED:20241123T163714Z
UID:4368-1734166800-1734172200@caymanvisitor.com
SUMMARY:Saturday Morning Pony Rides
DESCRIPTION:Enjoy Pony Rides and then ‘Stay and Play’ with the friendly farm animals. Meet the goats\, chickens\, bunnies and more. Climb trees\, run around and have good old fashioned fun in the fresh air. \n\nNo minimum age\nPonies are safe and well behaved\nFully trained staff\nRiding Helmets provided.\n\n\n\nPricing\n\n\nPer Child $5
URL:https://caymanvisitor.com/event/saturday-morning-pony-rides-33/
LOCATION:Hirst Road\, Savannah Grand Cayman\, Cayman Islands
END:VEVENT
BEGIN:VEVENT
DTSTART;TZID=UTC:20241214T100000
DTEND;TZID=UTC:20241214T113000
DTSTAMP:20260424T120941
CREATED:20241123T162608Z
LAST-MODIFIED:20241123T162608Z
UID:4362-1734170400-1734175800@caymanvisitor.com
SUMMARY:Kids Club at the Cinema\, Grand Cayman
DESCRIPTION:On Saturdays at 10am\, kids and adults can take in family-friendly classics at the Camana Bay Cinema. Featuring brighter lights and softer sounds. \nCheck the listings for up-to-date info on which movies will be screened. \n\n\nPricing\n\n\nPer person $6\n\n\nVIP Tickets Per Person $17\n\n\n\nChildren under one are not charged provided they do not occupy a seat.
URL:https://caymanvisitor.com/event/kids-club-at-the-cinema-grand-cayman-5/
LOCATION:Camana Bay Cinema
END:VEVENT
BEGIN:VEVENT
DTSTART;TZID=UTC:20241214T130000
DTEND;TZID=UTC:20241214T150000
DTSTAMP:20260424T120941
CREATED:20241123T162407Z
LAST-MODIFIED:20241123T162407Z
UID:4361-1734181200-1734188400@caymanvisitor.com
SUMMARY:Saturday Sessions at Kaibo
DESCRIPTION:Nothing lifts the spirit like good music. Come out to the Saturday Sessions at Kaibo Beach to enjoy chill out tracks play on the decks\, and live musician Denys Carbo playing saxophone to lunchtime diners. It’s the soundtrack to your awesome weekend!
URL:https://caymanvisitor.com/event/saturday-sessions-at-kaibo-6/
LOCATION:Kaibo Beach
END:VEVENT
BEGIN:VEVENT
DTSTART;TZID=UTC:20241214T133000
DTEND;TZID=UTC:20241214T163000
DTSTAMP:20260424T120941
CREATED:20241123T163317Z
LAST-MODIFIED:20241123T163317Z
UID:4366-1734183000-1734193800@caymanvisitor.com
SUMMARY:Mad Tea Party
DESCRIPTION:A&D like to do things differently and love pairing food with storytelling. Their elegant ritual of afternoon tea\, inspired by the magical and whimsical details of the Mad Hatter’s tea party in Alice in Wonderland\, celebrates art\, literature and all things delicious. \nBeginning with a welcome glass of bubbles and featuring creative blends designed by the experts of Tea Time in Cayman\, A&D surprise you with a decadent display of cool cakes and other desserts and ever-changing “Drink Me” potions in addition to their version of teatime classics. Follow the white rabbit to the Summer House\, where they make teatime fun and memorable! \nIt won’t be your average cup of tea! \n\n\nPricing\n\n\nPer person $43\n\n\n\nPlus gratuity
URL:https://caymanvisitor.com/event/mad-tea-party-6/
LOCATION:Grand Cayman Marriott Beach Resort\, Cayman Islands
END:VEVENT
BEGIN:VEVENT
DTSTART;TZID=UTC:20241214T140000
DTEND;TZID=UTC:20241214T160000
DTSTAMP:20260424T120941
CREATED:20241123T154331Z
LAST-MODIFIED:20241123T154331Z
UID:4348-1734184800-1734192000@caymanvisitor.com
SUMMARY:Anchor & Den Presents: Charlie's Chocolate Mad Tea
DESCRIPTION:Anchor & Den is proud to offer a uniquely double-themed afternoon that will bring the magic of sweets\, treats and creativity for children inspired by Willy Wonka’s Chocolate while parents enjoy A&D’s traditional Hatter-inspired Mad Tea party. \nChildren will be invited into a world of pure imagination when they take a seat at the edible creation stations to play with cookie decorating\, cake pop making and fairy bread designing. A&D’s dedicated team will guide your children’s’ creative minds and crafty hands through this fun-filled delicious afternoon experience. \nWhile the little ones are entertained\, let yourself have an inspired afternoon indulging in the classic ritual of afternoon tea. The Mad Tea Party will take place adjacent to the kids’ activities with treats and libations of your own. Choose from a robust list of teas from Tea Time in Cayman\, sip on a glass of bubbles and delight in traditional tea time nibbles and other palate-pleasing small bites. \nMark your calendars and get your golden ticket! \n14th\, 19th\, 20th\, 21st & 23rd December 2024. \nMake your reservation by calling Anchor & Den at 949-0088 or emailing hello@anchorandden.com. \n\n\nPricing\n\n\nPer person $59\n\n\n\nPlus gratuity
URL:https://caymanvisitor.com/event/anchor-den-presents-charlies-chocolate-mad-tea/
END:VEVENT
BEGIN:VEVENT
DTSTART;TZID=UTC:20241214T140000
DTEND;TZID=UTC:20241214T160000
DTSTAMP:20260424T120941
CREATED:20241205T185904Z
LAST-MODIFIED:20241205T185904Z
UID:4615-1734184800-1734192000@caymanvisitor.com
SUMMARY:Charlie's Chocolate Mad Tea Party
DESCRIPTION:Children are invited into a world of pure imagination when they take a seat at the edible creation stations to play with cookie decorating\, cake pop making and fairy bread designing. And while the little ones are entertained\, have an afternoon indulging in the classic ritual of afternoon tea. The Mad Tea Party will take place adjacent to the kids’ activities with treats and libations of your own.
URL:https://caymanvisitor.com/event/charlies-chocolate-mad-tea-party/
LOCATION:Camana Bay
END:VEVENT
BEGIN:VEVENT
DTSTART;TZID=UTC:20241214T140000
DTEND;TZID=UTC:20241214T160000
DTSTAMP:20260424T120941
CREATED:20241205T191752Z
LAST-MODIFIED:20241205T191752Z
UID:4623-1734184800-1734192000@caymanvisitor.com
SUMMARY:Bubbles & Baubles Christmas Special
DESCRIPTION:Bubbles and baubles is a Christmas special of Union’s traditional high tea\, with prosecco and full-on Christmas spirit!
URL:https://caymanvisitor.com/event/bubbles-baubles-christmas-special/
LOCATION:The Cresent\, Camana Bay\, Cayman Islands
END:VEVENT
BEGIN:VEVENT
DTSTART;TZID=UTC:20241214T150000
DTEND;TZID=UTC:20241214T170000
DTSTAMP:20260424T120941
CREATED:20241123T160516Z
LAST-MODIFIED:20241123T160516Z
UID:4359-1734188400-1734195600@caymanvisitor.com
SUMMARY:Cocktail Masterclass at Union Grill
DESCRIPTION:Masterclasses at Union are the perfect way to learn something new and have fun at the same time. \nAt the Cocktail Masterclass you’ll be taught by an experienced mixologist. Union provide all the tools and ingredients\, and you get to drink what you’ve made along the way! The 2 hour session is limited to 12 participants\, and is perfect for birthdays\, parties\, bachelor/ette parties\, corporate team building and employee reward programmes. \nCocktail Masterclasses are Thursday\, Friday and Saturday\, 3-5pm! \n\n\nPricing\n\n\nPer Person $50\n\n\n\nPrice excludes gratuity. \n\n\n\nAdditional Information\n\nBookings are required. No walk-ins available.
URL:https://caymanvisitor.com/event/cocktail-masterclass-at-union-grill-6/
LOCATION:Union Grill & Bar Camana Bay\, Cayman Islands
END:VEVENT
END:VCALENDAR