BEGIN:VCALENDAR
VERSION:2.0
PRODID:-//Caymanvisitor - ECPv6.15.1.1//NONSGML v1.0//EN
CALSCALE:GREGORIAN
METHOD:PUBLISH
X-WR-CALNAME:Caymanvisitor
X-ORIGINAL-URL:https://caymanvisitor.com
X-WR-CALDESC:Events for Caymanvisitor
REFRESH-INTERVAL;VALUE=DURATION:PT1H
X-Robots-Tag:noindex
X-PUBLISHED-TTL:PT1H
BEGIN:VTIMEZONE
TZID:UTC
BEGIN:STANDARD
TZOFFSETFROM:+0000
TZOFFSETTO:+0000
TZNAME:UTC
DTSTART:20250101T000000
END:STANDARD
END:VTIMEZONE
BEGIN:VEVENT
DTSTART;TZID=UTC:20250411T100000
DTEND;TZID=UTC:20250411T170000
DTSTAMP:20260421T170753
CREATED:20250307T165954Z
LAST-MODIFIED:20250307T165954Z
UID:5191-1744365600-1744390800@caymanvisitor.com
SUMMARY:Reef's Go Live - 11th April
DESCRIPTION:ABOUT REEFS GO LIVE \nReefs Go Live: Cryptic Creatures of the Reef \nFriday\, 11 April 2025 \n10 am – 10:45 am (UTC -5h) \nFREE registration: https://donate.reefresearch.org/rgl2025 \nWhen one thinks of coral reefs one often thinks of vibrant colours and charismatic species\, such as turtles\, large schools of fish\, and reef sharks. However\, a coral reef is a complex ecosystem and every species that lives there has a role to play the overall healthy functioning of the habitat\, that includes the less well-known cryptic species. \nJoin CCMI as they explore the animal kingdom on Little Cayman’s coral reefs focussing on those often overlooked but equally just as important (and cool!) groups of species such as sponges\, worms\, corals\, sea stars\, and crabs! \nReefs Go Live is supported by the Edmund F. and Virginia B. Ball Foundation. \nTo participate in the interactive portion of Reefs Go Live\, with live question and answer\, polls\, and engagement with CCMI’s team in Little Cayman\, register and join us here: https://donate.reefresearch.org/rgl2025 \nLearn more about Reefs Go Live at https://reefresearch.org/what-we-do/education/reefs-go-live/
URL:https://caymanvisitor.com/event/reefs-go-live-11th-april/
LOCATION:Online Events
END:VEVENT
BEGIN:VEVENT
DTSTART;TZID=UTC:20250411T140000
DTEND;TZID=UTC:20250411T160000
DTSTAMP:20260421T170753
CREATED:20250307T171115Z
LAST-MODIFIED:20250307T171115Z
UID:5198-1744380000-1744387200@caymanvisitor.com
SUMMARY:Afternoon Tea at Silver Palm Lounge
DESCRIPTION:The Ritz-Carlton invite you to join them for an enchanting afternoon tea at Silver Palm Lounge. \nIndulge in an array of delightful teas\, scrumptious pastries and finger sandwiches. \nCheck out their full afternoon tea menu here! \n\n\nPricing\n\n\nCayman Brac Tea$50\n\n\nGrand Cayman Tea$68\n\n\n\nPlus gratuity \n\n\n\nAdditional Information\n\nReservations are required 24 hours in advance
URL:https://caymanvisitor.com/event/afternoon-tea-at-silver-palm-lounge-17/
LOCATION:Ritz Carlton\, Cayman Islands
END:VEVENT
BEGIN:VEVENT
DTSTART;TZID=UTC:20250411T170000
DTEND;TZID=UTC:20250411T220000
DTSTAMP:20260421T170753
CREATED:20250307T170521Z
LAST-MODIFIED:20250307T170521Z
UID:5195-1744390800-1744408800@caymanvisitor.com
SUMMARY:Rockin' Ramen
DESCRIPTION:Ramen has a rich and flavourful history\, with origins in China\, and it became popular in Japan in the early 1900s. \nNow loved worldwide for its delicious broth and handmade noodles\, you can savour the artistry of elevated street food at Anchor & Den with Rockin’ Ramen every Friday\, where this dish is expertly prepared right before your eyes\, and a live DJ will entertain. \nA la carte menu.
URL:https://caymanvisitor.com/event/rockin-ramen-15/
LOCATION:Grand Cayman Marriott Beach Resort\, Cayman Islands
END:VEVENT
BEGIN:VEVENT
DTSTART;TZID=UTC:20250411T180000
DTEND;TZID=UTC:20250411T220000
DTSTAMP:20260421T170753
CREATED:20250307T170223Z
LAST-MODIFIED:20250307T170223Z
UID:5194-1744394400-1744408800@caymanvisitor.com
SUMMARY:Kaibo's Luna Del Mar
DESCRIPTION:Make memories at Luna Del Mar with full moon dining\, live DJ\, fire pit and sharing feast. \nTaste 10 delightful dishes that come to every table to share family-style. If one of your party has dietary requirements\, please alert Kaibo in advance when booking. View the Luna del Mar sample menu here. \nEstablished since the full moon June 2007\, the buzzing vibe\, free of pretention\, has caused many to fall in love with Luna Del Mar. With sand-between-your-toes\, star and moon gazing\, and palm fringed shores\, Luna Del Mar is the  place to gather your good friends for your next special night out. \n\nFebruary 14th (Snow Moon)\nMarch 14th (Worm Moon)\nApril 11th (Pink Moon)\nMay 9th (Flower Moon)\nJune 13th (Strawberry Moon)\nJuly 11th (Buck Moon)\n\nRide across the water with Cayman Ferries from Camana Bay on this perfect night for boating. \nVisit the Kaibo website for more information. \n\n\nPricing\n\n\n10-dish dinner$59\n\n\nThree-course children’s menu (under 8 years)$24\n\n\n\nPlus gratuity
URL:https://caymanvisitor.com/event/kaibos-luna-del-mar/
LOCATION:Kaibo Beach
END:VEVENT
BEGIN:VEVENT
DTSTART;TZID=UTC:20250411T180000
DTEND;TZID=UTC:20250411T220000
DTSTAMP:20260421T170753
CREATED:20250307T170919Z
LAST-MODIFIED:20250307T170919Z
UID:5197-1744394400-1744408800@caymanvisitor.com
SUMMARY:Asado Night at Veranda
DESCRIPTION:Join Veranda at The Marriott for a special evening to the Argentinian tradition of cooking with fire at their popular Asado Night. \nThis special night makes for a beautiful evening at the waterfront Veranda restaurant to the sound of waves crashing as the sun goes down. Chefs will be grilling a variety of mouth-watering meats\, vegetables and even some fruits on the Asador\, an Argentinian-style grill built over an open flame fire pit. \nCome hungry and devour the rich Argentinian culture cooked into this delicious night of food\, drinks\, good friends and live entertainment with music. \nA la carte dinner menu available.
URL:https://caymanvisitor.com/event/asado-night-at-veranda-15/
LOCATION:Grand Cayman Marriott Beach Resort\, Cayman Islands
END:VEVENT
BEGIN:VEVENT
DTSTART;TZID=UTC:20250411T183000
DTEND;TZID=UTC:20250411T213000
DTSTAMP:20260421T170753
CREATED:20250307T165504Z
LAST-MODIFIED:20250307T165504Z
UID:5189-1744396200-1744407000@caymanvisitor.com
SUMMARY:Big Bash - Night On Olympus
DESCRIPTION:25th Anniversary of Big Bash  \nEvent Name: Big Bash: Night on Olympus \nWhen: Friday\, April 11th at 6:30 p.m. \nWhere: Ristorante Pappagallo \nTickets: CI $300.00 \nDescription:  \nAscend to the heights of Mount Olympus for one legendary night!  \nThe gates of the gods are opening\, and you’re invited to step into a world of myth\, magic\, and majesty at Big Bash: Night on Olympus!  \nNo speeches\, no auctions—just an unforgettable night of divine dining\, celestial cocktails\, and dancing fit for the gods. \nBut beyond the revelry\, this heavenly celebration supports a truly noble cause.  \nHosted by Jasmine\, a non-profit dedicated to providing free palliative and hospice care in the Cayman Islands\, this event helps ensure that those in need receive comfort\, dignity\, and compassionate care—at no cost to them. \nDress Code: Celestial Couture – Think powerful\, ethereal\, and godly glamour (no togas here—get creative!). \nThese tickets are vanishing faster than Zeus’ lightning! Secure your spot now by emailing us at fundraising@jasmine.ky.  \nRemember\, tickets are first-come\, first-served\, so don’t keep the gods waiting!
URL:https://caymanvisitor.com/event/big-bash-night-on-olympus/
LOCATION:Ristorante Papagallo’s\, Conch Point Rd\, West Bay\, Grand Cayman
END:VEVENT
BEGIN:VEVENT
DTSTART;TZID=UTC:20250411T213000
DTEND;TZID=UTC:20250411T233000
DTSTAMP:20260421T170753
CREATED:20250307T170709Z
LAST-MODIFIED:20250307T170709Z
UID:5196-1744407000-1744414200@caymanvisitor.com
SUMMARY:The Club Fridays\, Next Door
DESCRIPTION:The Club at Next Door is the place to be. \nDance away the week and kick off your weekend in style with Next Door. Walk-ins are welcome\, but if you want to secure a spot\, you better call! \n 
URL:https://caymanvisitor.com/event/the-club-fridays-next-door-6/
LOCATION:The Cresent\, Camana Bay\, Cayman Islands
END:VEVENT
BEGIN:VEVENT
DTSTART;TZID=UTC:20250412T130000
DTEND;TZID=UTC:20250412T150000
DTSTAMP:20260421T170753
CREATED:20250307T171346Z
LAST-MODIFIED:20250307T171346Z
UID:5199-1744462800-1744470000@caymanvisitor.com
SUMMARY:Saturday Sessions at Kaibo
DESCRIPTION:Nothing lifts the spirit like good music. \nHead out to the Saturday Sessions at Kaibo Beach to enjoy chill out tracks play on the decks\, and live musician Denys Carbo playing saxophone to lunchtime diners. It’s the soundtrack to your awesome weekend!
URL:https://caymanvisitor.com/event/saturday-sessions-at-kaibo-15/
LOCATION:Kaibo Beach
END:VEVENT
BEGIN:VEVENT
DTSTART;TZID=UTC:20250412T140000
DTEND;TZID=UTC:20250412T160000
DTSTAMP:20260421T170753
CREATED:20250307T172604Z
LAST-MODIFIED:20250307T172604Z
UID:5204-1744466400-1744473600@caymanvisitor.com
SUMMARY:Afternoon Tea at Silver Palm Lounge
DESCRIPTION:The Ritz-Carlton invite you to join them for an enchanting afternoon tea at Silver Palm Lounge. \nIndulge in an array of delightful teas\, scrumptious pastries and finger sandwiches. \nCheck out their full afternoon tea menu here! \n\n\nPricing\n\n\nCayman Brac Tea$50\n\n\nGrand Cayman Tea$68\n\n\n\nPlus gratuity \n\n\n\nAdditional Information\n\nReservations are required 24 hours in advance
URL:https://caymanvisitor.com/event/afternoon-tea-at-silver-palm-lounge-18/
LOCATION:Ritz Carlton\, Cayman Islands
END:VEVENT
BEGIN:VEVENT
DTSTART;TZID=UTC:20250412T180000
DTEND;TZID=UTC:20250412T210000
DTSTAMP:20260421T170753
CREATED:20250307T172351Z
LAST-MODIFIED:20250307T172351Z
UID:5203-1744480800-1744491600@caymanvisitor.com
SUMMARY:Live Caribbean Music at Tukka West
DESCRIPTION:Head to Tukka West every Saturday for live Caribbean music. \nSit oceanside\, enjoy some delicious grub and be relaxed by the music on the breeze.
URL:https://caymanvisitor.com/event/live-caribbean-music-at-tukka-west-15/
LOCATION:Tukka West\, Head to Tukka West every Saturday for live Caribbean music. Sit oceanside\, enjoy some delicious grub and be relaxed by the music on the breeze.\, Grand Cayman\, Cayman Islands
END:VEVENT
BEGIN:VEVENT
DTSTART;TZID=UTC:20250412T180000
DTEND;TZID=UTC:20250412T220000
DTSTAMP:20260421T170753
CREATED:20250307T172048Z
LAST-MODIFIED:20250307T172048Z
UID:5202-1744480800-1744495200@caymanvisitor.com
SUMMARY:Zarautz Night\, Anchor & Den
DESCRIPTION:Join Anchor & Den as they bring their themed night\, Zarautz\, to life. Experience the vibrant taste of Spanish tapas\, featuring a menu crafted with classic dishes and accompanied by live music. Their chef has curated a selection of beautifully delicious options\, including gambones al ajillo\, octopus paella\, patatas bravas\, fried calamari\, and tortilla de patatas and chorizo\, just to name a few. \nThey also offer unique Spanish wines\, sangrias\, and handcrafted cocktails\, making this a night of truly authentic experiences. Between the tapas and the sangrias\, you’ll feel like you’re right there in Spain. \nLive entertainment with music. \nA la carte menu.
URL:https://caymanvisitor.com/event/zarautz-night-anchor-den-6/
LOCATION:Grand Cayman Marriott Beach Resort\, Cayman Islands
END:VEVENT
BEGIN:VEVENT
DTSTART;TZID=UTC:20250412T183000
DTEND;TZID=UTC:20250412T203000
DTSTAMP:20260421T170753
CREATED:20250307T171641Z
LAST-MODIFIED:20250307T171641Z
UID:5200-1744482600-1744489800@caymanvisitor.com
SUMMARY:Daisy Lee Live at Union
DESCRIPTION:Enjoy the sound of soulful vibes\, jazz\, blues and pop covers with Daisy Lee at Union every Saturday. \nCome for the live music\, stay for the fantastic cocktails and delicious food!
URL:https://caymanvisitor.com/event/daisy-lee-live-at-union-13/
LOCATION:The Cresent\, Camana Bay\, Cayman Islands
END:VEVENT
BEGIN:VEVENT
DTSTART;TZID=UTC:20250412T190000
DTEND;TZID=UTC:20250412T220000
DTSTAMP:20260421T170753
CREATED:20250307T171847Z
LAST-MODIFIED:20250307T171847Z
UID:5201-1744484400-1744495200@caymanvisitor.com
SUMMARY:Live Music Saturday at Abacus
DESCRIPTION:Treat yourself to a special Saturday evening of live Caribbean music and delicious food. \nEvery Saturday at Camana Bay\, sit down and relax to some chilled live music\, a glass of fine wine and some of Cayman’s best dishes from land and sea.
URL:https://caymanvisitor.com/event/live-music-saturday-at-abacus-16/
LOCATION:45 Market St\, Camana Bay
END:VEVENT
BEGIN:VEVENT
DTSTART;TZID=UTC:20250422T180000
DTEND;TZID=UTC:20250422T220000
DTSTAMP:20260421T170753
CREATED:20250310T153605Z
LAST-MODIFIED:20250310T153605Z
UID:5207-1745344800-1745359200@caymanvisitor.com
SUMMARY:Souq Night\, Anchor & Den
DESCRIPTION:Immerse yourself in a world of sensory delights with A&D’s special\, Middle East-inspired all-you-can-eat menu. \nBreathe in the enticing aromas that fill the air\, feast your eyes on the vibrant decor\, enjoy the live DJ\, and indulge in delicious dishes crafted from the rich culinary traditions of the region. \n\n\nPricing\n\n\nPer person$35\n\n\n\nPlus gratuity
URL:https://caymanvisitor.com/event/souq-night-anchor-den-5/
LOCATION:Marriot Beach Resort\, Seven Mile Beach\, Cayman Islands
END:VEVENT
BEGIN:VEVENT
DTSTART;TZID=UTC:20250422T183000
DTEND;TZID=UTC:20250422T203000
DTSTAMP:20260421T170753
CREATED:20250310T153910Z
LAST-MODIFIED:20250310T153910Z
UID:5208-1745346600-1745353800@caymanvisitor.com
SUMMARY:Trivia Night\, Salty's Sports Bar
DESCRIPTION:Feed your brain and head over to Salty’s for their Tuesday Trivia Nights! \nGreat prizes are given out every week. You don’t want to miss this event\, as well as Absolut\, Fireball and Michelob Ultra specials.
URL:https://caymanvisitor.com/event/trivia-night-saltys-sports-bar-14/
LOCATION:Grand Harbour\, Harbour Walk\, 52a Edgewater Way\, Grand Harbour\, Grand Cayman\, Cayman Islands
END:VEVENT
BEGIN:VEVENT
DTSTART;TZID=UTC:20250424T170000
DTEND;TZID=UTC:20250424T210000
DTSTAMP:20260421T170753
CREATED:20250310T154312Z
LAST-MODIFIED:20250310T154312Z
UID:5209-1745514000-1745528400@caymanvisitor.com
SUMMARY:Curry Night at The Edgy Vedge
DESCRIPTION:On the last Thursday of every month\, enjoy curry night at The Edgy Vedge. \nTuck into the tastiest East Indian dishes that celebrate plants – the Chik’n Tikka Masala is delicious! \nView a sample menu for Curry Night here.
URL:https://caymanvisitor.com/event/curry-night-at-the-edgy-vedge-2/
LOCATION:Camana Bay
END:VEVENT
BEGIN:VEVENT
DTSTART;TZID=UTC:20250424T183000
DTEND;TZID=UTC:20250424T203000
DTSTAMP:20260421T170753
CREATED:20250310T154630Z
LAST-MODIFIED:20250310T154630Z
UID:5212-1745519400-1745526600@caymanvisitor.com
SUMMARY:Dinner Jazz\, Union Grill & Bar
DESCRIPTION:Thursday night is Jazz Night at Union. Listen to the polished sounds of local legend Devon Edie on sax. Thirsty Thursdays just got a whole lot better! \nDine at a table or the bar.
URL:https://caymanvisitor.com/event/dinner-jazz-union-grill-bar-13/
LOCATION:The Cresent\, Camana Bay\, Cayman Islands
END:VEVENT
BEGIN:VEVENT
DTSTART;TZID=UTC:20250424T203000
DTEND;TZID=UTC:20250424T223000
DTSTAMP:20260421T170753
CREATED:20250310T154945Z
LAST-MODIFIED:20250310T154945Z
UID:5213-1745526600-1745533800@caymanvisitor.com
SUMMARY:Jazz Island Thursdays
DESCRIPTION:Experience the magic of live jazz every Thursday! Join Next Door for an unforgettable evening featuring a talented local ensemble band that will set the perfect vibe for your night. \nDon’t miss out on this weekly showcase of smooth rhythms and soulful melodies. \nGrab your friends and make it a night to remember!
URL:https://caymanvisitor.com/event/jazz-island-thursdays-6/
LOCATION:The Cresent\, Camana Bay\, Cayman Islands
END:VEVENT
BEGIN:VEVENT
DTSTART;TZID=UTC:20250425T140000
DTEND;TZID=UTC:20250425T160000
DTSTAMP:20260421T170753
CREATED:20250310T200341Z
LAST-MODIFIED:20250310T200341Z
UID:5220-1745589600-1745596800@caymanvisitor.com
SUMMARY:Afternoon Tea at Silver Palm Lounge
DESCRIPTION:The Ritz-Carlton invite you to join them for an enchanting afternoon tea at Silver Palm Lounge. \nIndulge in an array of delightful teas\, scrumptious pastries and finger sandwiches. \nCheck out their full afternoon tea menu here! \n\n\nPricing\n\n\nCayman Brac Tea$50\n\n\nGrand Cayman Tea$68\n\n\n\nPlus gratuity \n\n\n\nAdditional Information\n\nReservations are required 24 hours in advance
URL:https://caymanvisitor.com/event/afternoon-tea-at-silver-palm-lounge-19/
LOCATION:The Westin Grand Cayman Ballroom\, Seven Mile Beach\, Cayman Islands
END:VEVENT
BEGIN:VEVENT
DTSTART;TZID=UTC:20250425T170000
DTEND;TZID=UTC:20250425T220000
DTSTAMP:20260421T170753
CREATED:20250310T155337Z
LAST-MODIFIED:20250310T155337Z
UID:5214-1745600400-1745618400@caymanvisitor.com
SUMMARY:Rockin' Ramen
DESCRIPTION:Ramen has a rich and flavourful history\, with origins in China\, and it became popular in Japan in the early 1900s. \nNow loved worldwide for its delicious broth and handmade noodles\, you can savour the artistry of elevated street food at Anchor & Den with Rockin’ Ramen every Friday\, where this dish is expertly prepared right before your eyes\, and a live DJ will entertain. \nA la carte menu.
URL:https://caymanvisitor.com/event/rockin-ramen-16/
LOCATION:Marriot Beach Resort\, Seven Mile Beach\, Cayman Islands
END:VEVENT
BEGIN:VEVENT
DTSTART;TZID=UTC:20250425T180000
DTEND;TZID=UTC:20250425T220000
DTSTAMP:20260421T170753
CREATED:20250310T195930Z
LAST-MODIFIED:20250310T195930Z
UID:5219-1745604000-1745618400@caymanvisitor.com
SUMMARY:Asado Night at Veranda
DESCRIPTION:Join Veranda at The Marriott for a special evening to the Argentinian tradition of cooking with fire at their popular Asado Night. \nThis special night makes for a beautiful evening at the waterfront Veranda restaurant to the sound of waves crashing as the sun goes down. Chefs will be grilling a variety of mouth-watering meats\, vegetables and even some fruits on the Asador\, an Argentinian-style grill built over an open flame fire pit. \nCome hungry and devour the rich Argentinian culture cooked into this delicious night of food\, drinks\, good friends and live entertainment with music. \nA la carte dinner menu available.
URL:https://caymanvisitor.com/event/asado-night-at-veranda-16/
LOCATION:Marriot Beach Resort\, Seven Mile Beach\, Cayman Islands
END:VEVENT
BEGIN:VEVENT
DTSTART;TZID=UTC:20250425T200000
DTEND;TZID=UTC:20250425T230000
DTSTAMP:20260421T170753
CREATED:20250310T195643Z
LAST-MODIFIED:20250310T195643Z
UID:5216-1745611200-1745622000@caymanvisitor.com
SUMMARY:Disco Inferno at The Wharf
DESCRIPTION:Your favourite party is back where it all began! \nIndulge in a waterfront dinner\, then hit the dance floor to your favourite retro hits; the best the 70s 80s and 90s have to offer! \nLet the rhythm take you back to the golden era. Gather your crew and get ready to shine!
URL:https://caymanvisitor.com/event/disco-inferno-at-the-wharf/
LOCATION:Seven Mile Beach\, Cayman Islands
END:VEVENT
BEGIN:VEVENT
DTSTART;TZID=UTC:20250425T213000
DTEND;TZID=UTC:20250425T233000
DTSTAMP:20260421T170753
CREATED:20250310T155702Z
LAST-MODIFIED:20250310T155702Z
UID:5215-1745616600-1745623800@caymanvisitor.com
SUMMARY:The Club Fridays\, Next Door
DESCRIPTION:The Club at Next Door is the place to be. \nDance away the week and kick off your weekend in style with Next Door. Walk-ins are welcome\, but if you want to secure a spot\, you better call!
URL:https://caymanvisitor.com/event/the-club-fridays-next-door-7/
LOCATION:The Cresent\, Camana Bay\, Cayman Islands
END:VEVENT
BEGIN:VEVENT
DTSTART;TZID=UTC:20250426T130000
DTEND;TZID=UTC:20250426T150000
DTSTAMP:20260421T170753
CREATED:20250310T201334Z
LAST-MODIFIED:20250310T201334Z
UID:5221-1745672400-1745679600@caymanvisitor.com
SUMMARY:Saturday Sessions at Kaibo
DESCRIPTION:Nothing lifts the spirit like good music. \nHead out to the Saturday Sessions at Kaibo Beach to enjoy chill out tracks play on the decks\, and live musician Denys Carbo playing saxophone to lunchtime diners. It’s the soundtrack to your awesome weekend!
URL:https://caymanvisitor.com/event/saturday-sessions-at-kaibo-16/
LOCATION:Kaibo Beach
END:VEVENT
BEGIN:VEVENT
DTSTART;TZID=UTC:20250426T133000
DTEND;TZID=UTC:20250426T163000
DTSTAMP:20260421T170753
CREATED:20250311T143514Z
LAST-MODIFIED:20250311T143514Z
UID:5225-1745674200-1745685000@caymanvisitor.com
SUMMARY:Mad Tea Party
DESCRIPTION:Anchor & Den’s whimsical afternoon tea\, inspired by Alice in Wonderland’s Mad Hatter tea party\, celebrates art\, literature and delicious treats. \nBegin with a welcome glass of bubbles and enjoy creative tea blends from Tea Time in Cayman\, alongside a decadent display of cool cakes\, desserts\, tea-time classics and fun ‘Drink Me’ potions. \nIt won’t be your average cup of tea! \n\n\nPricing\n\n\nPer person$43\n\n\n\nPlus gratuity \n\n\n\nAdditional Information\n\nReservations required.
URL:https://caymanvisitor.com/event/mad-tea-party-17/
LOCATION:Marriot Beach Resort\, Seven Mile Beach\, Cayman Islands
END:VEVENT
BEGIN:VEVENT
DTSTART;TZID=UTC:20250426T180000
DTEND;TZID=UTC:20250426T210000
DTSTAMP:20260421T170753
CREATED:20250311T143952Z
LAST-MODIFIED:20250311T143952Z
UID:5227-1745690400-1745701200@caymanvisitor.com
SUMMARY:Live Caribbean Music at Tukka West
DESCRIPTION:Head to Tukka West every Saturday for live Caribbean music. \nSit oceanside\, enjoy some delicious grub and be relaxed by the music on the breeze.
URL:https://caymanvisitor.com/event/live-caribbean-music-at-tukka-west-16/
LOCATION:Tukka West\, Head to Tukka West every Saturday for live Caribbean music. Sit oceanside\, enjoy some delicious grub and be relaxed by the music on the breeze.\, Grand Cayman\, Cayman Islands
END:VEVENT
BEGIN:VEVENT
DTSTART;TZID=UTC:20250426T180000
DTEND;TZID=UTC:20250426T220000
DTSTAMP:20260421T170753
CREATED:20250311T143717Z
LAST-MODIFIED:20250311T143717Z
UID:5226-1745690400-1745704800@caymanvisitor.com
SUMMARY:Zarautz Night\, Anchor & Den
DESCRIPTION:Join Anchor & Den as they bring their themed night\, Zarautz\, to life. Experience the vibrant taste of Spanish tapas\, featuring a menu crafted with classic dishes and accompanied by live music. Their chef has curated a selection of beautifully delicious options\, including gambones al ajillo\, octopus paella\, patatas bravas\, fried calamari\, and tortilla de patatas and chorizo\, just to name a few. \nThey also offer unique Spanish wines\, sangrias\, and handcrafted cocktails\, making this a night of truly authentic experiences. Between the tapas and the sangrias\, you’ll feel like you’re right there in Spain. \nLive entertainment with music. \nA la carte menu.
URL:https://caymanvisitor.com/event/zarautz-night-anchor-den-7/
LOCATION:Grand Cayman Marriott Beach Resort\, Cayman Islands
END:VEVENT
BEGIN:VEVENT
DTSTART;TZID=UTC:20250426T183000
DTEND;TZID=UTC:20250426T203000
DTSTAMP:20260421T170753
CREATED:20250311T142333Z
LAST-MODIFIED:20250311T142333Z
UID:5222-1745692200-1745699400@caymanvisitor.com
SUMMARY:Daisy Lee Live at Union
DESCRIPTION:Enjoy the sound of soulful vibes\, jazz\, blues and pop covers with Daisy Lee at Union every Saturday. \nCome for the live music\, stay for the fantastic cocktails and delicious food!
URL:https://caymanvisitor.com/event/daisy-lee-live-at-union-14/
LOCATION:The Cresent\, Camana Bay\, Cayman Islands
END:VEVENT
BEGIN:VEVENT
DTSTART;TZID=UTC:20250426T190000
DTEND;TZID=UTC:20250426T220000
DTSTAMP:20260421T170753
CREATED:20250311T143129Z
LAST-MODIFIED:20250311T143129Z
UID:5224-1745694000-1745704800@caymanvisitor.com
SUMMARY:Events Calendar Live Music Saturday at Abacus
DESCRIPTION:Treat yourself to a special Saturday evening of live Caribbean music and delicious food. \nEvery Saturday at Camana Bay\, sit down and relax to some chilled live music\, a glass of fine wine and some of Cayman’s best dishes from land and sea.
URL:https://caymanvisitor.com/event/events-calendar-live-music-saturday-at-abacus/
LOCATION:45 Market St\, Camana Bay
END:VEVENT
BEGIN:VEVENT
DTSTART;TZID=UTC:20250426T203000
DTEND;TZID=UTC:20250426T223000
DTSTAMP:20260421T170753
CREATED:20250311T142557Z
LAST-MODIFIED:20250311T142557Z
UID:5223-1745699400-1745706600@caymanvisitor.com
SUMMARY:Jazz in Trance at Next Door
DESCRIPTION:Denny Carbo and Jazz in Trance every Saturday! \nEnjoy an electrifying performance of jazz\, Cuban\, Caribbean\, ancient and contemporary beats.
URL:https://caymanvisitor.com/event/jazz-in-trance-at-next-door-5/
LOCATION:The Cresent\, Camana Bay\, Cayman Islands
END:VEVENT
END:VCALENDAR