BEGIN:VCALENDAR
VERSION:2.0
PRODID:-//Caymanvisitor - ECPv6.15.1.1//NONSGML v1.0//EN
CALSCALE:GREGORIAN
METHOD:PUBLISH
X-WR-CALNAME:Caymanvisitor
X-ORIGINAL-URL:https://caymanvisitor.com
X-WR-CALDESC:Events for Caymanvisitor
REFRESH-INTERVAL;VALUE=DURATION:PT1H
X-Robots-Tag:noindex
X-PUBLISHED-TTL:PT1H
BEGIN:VTIMEZONE
TZID:UTC
BEGIN:STANDARD
TZOFFSETFROM:+0000
TZOFFSETTO:+0000
TZNAME:UTC
DTSTART:20240101T000000
END:STANDARD
END:VTIMEZONE
BEGIN:VEVENT
DTSTART;VALUE=DATE:20241001
DTEND;VALUE=DATE:20241101
DTSTAMP:20260421T102248
CREATED:20241008T150014Z
LAST-MODIFIED:20241008T150014Z
UID:3841-1727740800-1730419199@caymanvisitor.com
SUMMARY:Cayman Islands Restaurant Month 2024
DESCRIPTION:Get ready for everyone’s favorite month! This year\, CITA’s Cayman Restaurant Month\, proudly sponsored by Mastercard\, features over 50 participating restaurants. You can enjoy lunch menus ranging from CI$15 to CI$40 and dinner menus from CI$30 to CI$50.  \nCayman Good Taste is excited to support Restaurant Month\, providing a complete list of all the restaurants and their mouthwatering menus available throughout the entire month! So take a look and indulge!  \nWill you be opting for brunch\, lunch\, or dinner? How many different menus will you sample this month? You can select from fantastic budget-friendly options to more extravagant dishes that usually come with a higher price tag!  \nThis is not just a great way to support local Cayman restaurants; it’s also a unique opportunity to explore new flavors! Don’t forget to check out www.restaurantmonth.ky for all the details on restaurants\, menus\, and the latest updates!
URL:https://caymanvisitor.com/event/cayman-islands-restaurant-month-2024/
ATTACH;FMTTYPE=image/jpeg:https://caymanvisitor.com/wp-content/uploads/2024/10/RM24ParticipantSocialPOST-8-20241002173645.jpg
END:VEVENT
BEGIN:VEVENT
DTSTART;VALUE=DATE:20241005
DTEND;VALUE=DATE:20241006
DTSTAMP:20260421T102248
CREATED:20240917T155150Z
LAST-MODIFIED:20240917T155150Z
UID:3825-1728086400-1728172799@caymanvisitor.com
SUMMARY:2024 BREAST CANCER FOUNDATION GALA
DESCRIPTION:The Breast Cancer Foundation is thrilled to announce that Grammy Award-winning artist Shaggy will be the guest performer at this year’s 15th Anniversary Breast Cancer Gala. The gala\, a cornerstone of the community’s fundraising efforts for breast cancer awareness\, early detection and support\, will take place on October 5\, 2024\, at the prestigious Ritz Carlton Grand Cayman. \nRenowned for his international hits and magnetic stage presence\, Shaggy is set to deliver a memorable performance that attendees will not want to miss. The evening promises to be an exciting blend of entertainment\, philanthropy\, and celebration\, all in support of a cause that touches countless lives. \n“We are absolutely delighted to welcome Shaggy as our headline performer for this milestone anniversary\,” said Beverly Edgington\, Chief Administrator of the Breast Cancer Gala. “His involvement will undoubtedly elevate the evening\, bringing joy and hope to our community as we unite to support breast cancer awareness and support. This year’s gala is not just a celebration of our achievements but a reaffirmation of our commitment to making a difference.” \nThe Breast Cancer Gala has grown over the years\, drawing hundreds of supporters and raising significant funds for breast cancer detection and support services in the Cayman Islands. The 15th anniversary event aims to build on this success\, with a spectacular evening of dining\, entertainment\, and celebrations of hope and resilience. \nTickets for the Breast Cancer Gala are completely sold out however you can still support by donating to the Gala by means of a prize for the auction or volunteering on the night. \nFor more information\, please contact: Beverly Edgington\, Chief Administrator\, bev@bcfcayman.com\, www.breastcancerfoundation.ky \nAbout the Breast Cancer Gala: \nThe Breast Cancer Gala is an annual event dedicated to raising awareness and funds for The Breast Cancer Foundations breast cancer support services\, early detection and wellness programs. Over the past 15 years\, it has become a significant force in the fight against breast cancer\, supporting countless individuals and their families through community-driven initiatives. \n\n1 (345) 923 1135
URL:https://caymanvisitor.com/event/2024-breast-cancer-foundation-gala/
LOCATION:Ritz Carlton\, Cayman Islands
ATTACH;FMTTYPE=image/png:https://caymanvisitor.com/wp-content/uploads/2024/09/bcfgd-20230620104800.png
END:VEVENT
BEGIN:VEVENT
DTSTART;TZID=UTC:20241005T090000
DTEND;TZID=UTC:20241005T100000
DTSTAMP:20260421T102248
CREATED:20240917T152535Z
LAST-MODIFIED:20240917T152535Z
UID:3814-1728118800-1728122400@caymanvisitor.com
SUMMARY:Pilates for Pink
DESCRIPTION:Pilates for pink is back! \nCayman’s 18th Annual Breast Cancer Awareness fundraiser\, Pilates for Pink\, is back on Saturday\, October 5\, 2024 from 9am – 11am at the ARC Camana Bay. \nEach year this unique fundraising event attracts over 300 participants from across the island for a group Pilates workout\, in support of the Cayman Islands Cancer Society. \nENERGY Pilates – the organizing body behind Pilates for Pink – is now accepting registrations and sponsorships. The Registration fee is CI$40 and includes an exclusive Pilates for Pink tank top\, a pink Pilates prop to use during the class and a FREE draw prize ticket to win prizes throughout the event. Attendees will also enjoy Pre-Pink Party\, Plank Challenge and 60 minute Pilates4Pink Power Workout. \n📧 info@energycayman.com\n📱 928-2673 \nGet tickets/register HERE
URL:https://caymanvisitor.com/event/pilates-for-pink-2/
LOCATION:Camana Bay ARC Centre\, Cayman International School
ATTACH;FMTTYPE=image/jpeg:https://caymanvisitor.com/wp-content/uploads/2024/09/Screenshot-2022-10-07-143845-20221007143955.jpg
END:VEVENT
BEGIN:VEVENT
DTSTART;TZID=UTC:20241008T080000
DTEND;TZID=UTC:20241008T170000
DTSTAMP:20260421T102248
CREATED:20241008T154219Z
LAST-MODIFIED:20241008T154219Z
UID:3850-1728374400-1728406800@caymanvisitor.com
SUMMARY:Thatch Rope Making
DESCRIPTION:Learn the traditional art of thatch rope making in our hands-on workshop! Perfect for all ages and skill levels.  \nNon-members: $65 CI\, Members: $58 CI. \n Saturday\, 26 October 2024 2:30-4:30pmReserve your spot today! 
URL:https://caymanvisitor.com/event/thatch-rope-making/
LOCATION:The Inter-Generational Hub building \, behind the Airport Fosters\, Cayman Islands
ATTACH;FMTTYPE=image/jpeg:https://caymanvisitor.com/wp-content/uploads/2024/10/461575089_18358953766119694_2048954230890384020_n.jpg
END:VEVENT
BEGIN:VEVENT
DTSTART;TZID=UTC:20241009T100000
DTEND;TZID=UTC:20241009T160000
DTSTAMP:20260421T102248
CREATED:20240625T160658Z
LAST-MODIFIED:20240625T160711Z
UID:3708-1728468000-1728489600@caymanvisitor.com
SUMMARY:Farmers Market\, Camana Bay
DESCRIPTION:Real Food\, Real Farmers\, Real Community! The Farmers & Artisans Market is a showcase for all that is grown and made in Cayman \nStop by to support local farmers\, take in the scents of a fresh harvest and be inspired to cook your next culinary masterpiece at the Camana Bay Farmers Market. Enjoy seasonal crops and the finest in local produce\, such as mangoes\, breadfruit\, callaloo\, peppers and much more every Wednesday on the Paseo.
URL:https://caymanvisitor.com/event/farmers-market-camana-bay-49/
LOCATION:Camana Bay
ATTACH;FMTTYPE=image/jpeg:https://caymanvisitor.com/wp-content/uploads/2024/06/harvest-market-24.jpg
END:VEVENT
BEGIN:VEVENT
DTSTART;VALUE=DATE:20241011
DTEND;VALUE=DATE:20241012
DTSTAMP:20260421T102248
CREATED:20240917T153119Z
LAST-MODIFIED:20240917T153119Z
UID:3816-1728604800-1728691199@caymanvisitor.com
SUMMARY:NCVO 50th Anniversary Gala
DESCRIPTION:To celebrate 50 years of service in the Cayman community NCVO are hosting a special gala dinner on Friday 11th October 2024. \nThey invite you to join them in marking this momentous occasion. Tickets and sponsorship packages are available\, please email jmiller@ncvo.org.ky for more information. \nTickets are priced at $200\, so grab some friends and make a night of it\, all while supporting the important work of the NCVO!
URL:https://caymanvisitor.com/event/ncvo-50th-anniversary-gala/
LOCATION:Grand Old House South Sound\, Cayman Islands
ATTACH;FMTTYPE=image/jpeg:https://caymanvisitor.com/wp-content/uploads/2024/09/ncvo-50th-20240910100115.jpg
END:VEVENT
BEGIN:VEVENT
DTSTART;VALUE=DATE:20241012
DTEND;VALUE=DATE:20241013
DTSTAMP:20260421T102248
CREATED:20240917T153636Z
LAST-MODIFIED:20240917T153636Z
UID:3818-1728691200-1728777599@caymanvisitor.com
SUMMARY:Cayman Wine Fest 2024
DESCRIPTION: celebration of the finest wines from around the world\, expertly paired with delectable cuisine and set in the stunning backdrop of Seven Mile Beach. Hosted by Tortuga Fine Wine and Spirits\, this extraordinary event is your passport to a world of flavours and experiences. Join for an unforgettable event that promise to tantalize your taste buds and awaken your senses. \nTickets include unlimited wines\, spirits\, cocktails\, live food stations\, entertainment and more! \nA portion of proceeds from each ticket sold will benefit the Cayman Heart Foundation. \n\n\n\n\nAll-inclusive ticket$115 \nYour all-inclusive event tickets unlocks a world of the finest wines and spirits. Enjoy unlimited wines\, spirits\, cocktails\, live food stations\, entertainment and more!
URL:https://caymanvisitor.com/event/cayman-wine-fest-2024/
LOCATION:The Westin Grand Cayman Ballroom\, Seven Mile Beach\, Cayman Islands
ATTACH;FMTTYPE=image/jpeg:https://caymanvisitor.com/wp-content/uploads/2024/09/Tortuga-Cayman-Wine-Fest-20240909084004.jpg
END:VEVENT
BEGIN:VEVENT
DTSTART;VALUE=DATE:20241012
DTEND;VALUE=DATE:20241014
DTSTAMP:20260421T102248
CREATED:20241008T152609Z
LAST-MODIFIED:20241008T152626Z
UID:3844-1728691200-1728863999@caymanvisitor.com
SUMMARY:Wha Happening? - Comedy Show
DESCRIPTION:Get ready for a laughter-filled experience as ‘Wha Happening’ makes its grand return\, building on the legacy of Rundown! This exciting new comedy show\, proudly backed by the Cayman National Cultural Foundation (CNCF)\, is set to bring you more laughs than you ever imagined possible.  \nFeaturing a talented lineup of Cayman’s most hilarious comedians and performers\, ‘Wha Happening’ takes a fearless approach to satire\, tackling the quirks of contemporary Cayman life\, politics\, pop culture\, and much more. Now in its second year\, this show is ramping up the fun with an even faster-paced blend of stand-up\, parodies\, and sketches that humorously reflect modern life in Cayman!  \nThis season promises to be bigger and better\, with performances on Fridays\, Saturdays\, and Sundays. Doors open an hour before the show\, so come early and enjoy a drink at the CNCF Foyer Bar before the laughter begins! \n Prepare for a fresh array of comedic sketches that touch on everything from our national identity and the real estate market to dating escapades\, local sports legends\, and the ongoing traffic challenges.  \nTicket Prices: Online – $25 for adults\, $10 for children\, $15 for seniors. At the Door – $30 for adults\, $15 for children and seniors.
URL:https://caymanvisitor.com/event/wha-happening-comedy-show/
ATTACH;FMTTYPE=image/png:https://caymanvisitor.com/wp-content/uploads/2024/10/1724442515-20240827102047.png
END:VEVENT
BEGIN:VEVENT
DTSTART;TZID=UTC:20241016T143000
DTEND;TZID=UTC:20241016T163000
DTSTAMP:20260421T102248
CREATED:20241016T182522Z
LAST-MODIFIED:20241016T182604Z
UID:3861-1729089000-1729096200@caymanvisitor.com
SUMMARY:Thatch Rope Making
DESCRIPTION:Learn the traditional art of thatch rope making in our hands-on workshop! Perfect for all ages and skill levels. \nEmail to register \n\n\nPricing\n\n\nMembers$58 \n\n\nNon-members$65
URL:https://caymanvisitor.com/event/thatch-rope-making-2/
LOCATION:Cayman Islands National Museum\, Cayman Islands
ATTACH;FMTTYPE=image/jpeg:https://caymanvisitor.com/wp-content/uploads/2024/10/461575089_18358953766119694_2048954230890384020_n.jpg
END:VEVENT
BEGIN:VEVENT
DTSTART;VALUE=DATE:20241017
DTEND;VALUE=DATE:20241020
DTSTAMP:20260421T102248
CREATED:20240801T190636Z
LAST-MODIFIED:20240801T190636Z
UID:3725-1729123200-1729382399@caymanvisitor.com
SUMMARY:Circus International- Cayman Islands
DESCRIPTION:Circus International is coming to town!  \nGrand Cayman’s biggest family-friendly event of the year will be on-Island for a ONE-WEEKEND SPECTACULAR!  \nThe BEST acts from around the world\, 7 shows\, only at the Lions’ Community Centre\, October 17-19.  \nProceeds benefiting Rotary Club of Grand Cayman are selling fast\, grab yours and bring the whole family! \nTickets are available HERE! \nList of Performances: \n17th October 7.30pm\n18th October 4:30pm & 7:30pm\n19th October 1:00pm\, 4:00pm\, 7:00pm
URL:https://caymanvisitor.com/event/circus-international-cayman-islands/
LOCATION:Lions Community Centre\, Cayman Islands
ATTACH;FMTTYPE=image/png:https://caymanvisitor.com/wp-content/uploads/2024/08/circus-20240731110541.png
END:VEVENT
BEGIN:VEVENT
DTSTART;VALUE=DATE:20241017
DTEND;VALUE=DATE:20241020
DTSTAMP:20260421T102248
CREATED:20240917T155814Z
LAST-MODIFIED:20240917T155814Z
UID:3827-1729123200-1729382399@caymanvisitor.com
SUMMARY:Circus International!
DESCRIPTION:Circus International is coming to town!  \nGrand Cayman’s biggest family-friendly event of the year will be on-Island for a ONE-WEEKEND SPECTACULAR!  \nThe BEST acts from around the world\, 7 shows\, only at the Lions’ Community Centre\, October 17-19.  \nProceeds benefiting Rotary Club of Grand Cayman and tickets are selling fast\, grab yours and bring the whole family! \nTickets are available HERE! \nList of Performances: \n17th October 7.30pm\n18th October 4:30pm & 7:30pm\n19th October 1:00pm\, 4:00pm\, 7:00pm \n\n\n\n\n\nGeneral Admission$45\nGeneral Admission Kids 3-12$25\nPreferred Admission$75\nPreferred Admission Kids 3-12$55\nVIP$145
URL:https://caymanvisitor.com/event/circus-international/
LOCATION:Lions Community Centre\, Cayman Islands
ATTACH;FMTTYPE=image/png:https://caymanvisitor.com/wp-content/uploads/2024/09/circus-20240731110541-1.png
END:VEVENT
BEGIN:VEVENT
DTSTART;VALUE=DATE:20241024
DTEND;VALUE=DATE:20241027
DTSTAMP:20260421T102248
CREATED:20241008T153459Z
LAST-MODIFIED:20241008T153459Z
UID:3846-1729728000-1729987199@caymanvisitor.com
SUMMARY:Nightmare at Field of Screams
DESCRIPTION:Experience a thrilling adventure at Field of Screams\, where fear awaits around every corner. \n Explore the Haunted Temple\, a place where wandering spirits dwell and shadows creep under the eerie glow of the moonlit trees this Halloween season.  \nAll proceeds from this event will support the following organizations: Cayman Islands Humane Society\, Eco Divers\, Cayman Islands Little League\, Rotary Club of Grand Cayman\, and YMCA Cayman Islands. \n Mark your calendars for the event on October 24th\, 25th\, 26th\, 31st\, and November 1st\, 2024. Get your tickets at the event!
URL:https://caymanvisitor.com/event/nightmare-at-field-of-screams/
LOCATION:Field of Dreams Ballfield\, Cayman Islands
ATTACH;FMTTYPE=image/jpeg:https://caymanvisitor.com/wp-content/uploads/2024/10/haunted-house-20231004094830.jpeg
END:VEVENT
BEGIN:VEVENT
DTSTART;VALUE=DATE:20241031
DTEND;VALUE=DATE:20241102
DTSTAMP:20260421T102248
CREATED:20241008T153534Z
LAST-MODIFIED:20241008T153534Z
UID:3849-1730332800-1730505599@caymanvisitor.com
SUMMARY:Nightmare at Field of Screams
DESCRIPTION:Experience a thrilling adventure at Field of Screams\, where fear awaits around every corner. \n Explore the Haunted Temple\, a place where wandering spirits dwell and shadows creep under the eerie glow of the moonlit trees this Halloween season.  \nAll proceeds from this event will support the following organizations: Cayman Islands Humane Society\, Eco Divers\, Cayman Islands Little League\, Rotary Club of Grand Cayman\, and YMCA Cayman Islands. \n Mark your calendars for the event on October 24th\, 25th\, 26th\, 31st\, and November 1st\, 2024. Get your tickets at the event!
URL:https://caymanvisitor.com/event/nightmare-at-field-of-screams-2/
LOCATION:Field of Dreams Ballfield\, Cayman Islands
ATTACH;FMTTYPE=image/jpeg:https://caymanvisitor.com/wp-content/uploads/2024/10/haunted-house-20231004094830.jpeg
END:VEVENT
BEGIN:VEVENT
DTSTART;TZID=UTC:20241031T180000
DTEND;TZID=UTC:20241031T210000
DTSTAMP:20260421T102248
CREATED:20241016T182842Z
LAST-MODIFIED:20241016T182842Z
UID:3863-1730397600-1730408400@caymanvisitor.com
SUMMARY:Halloween at Camana Bay
DESCRIPTION:Mark your calendars because a Halloween at Camana Bay returns on the 31st October.  \nEnjoy trick or treating around the Town Centre from 5pm at participating retailers. At 7pm enjoy a frightful flick under the stars with a screening of Ghostbusters Afterlife (2021) PG)! Bring a picnic\, or grab dinner at one of Camana Bay’s many restaurants.
URL:https://caymanvisitor.com/event/halloween-at-camana-bay/
LOCATION:Camana Bay
ATTACH;FMTTYPE=image/jpeg:https://caymanvisitor.com/wp-content/uploads/2024/10/3945227137142786774132424038983388629178977n-20231024094347.jpg
END:VEVENT
END:VCALENDAR